BEGIN:VCALENDAR
VERSION:2.0
PRODID:-//Visit The Malverns - ECPv6.15.20//NONSGML v1.0//EN
CALSCALE:GREGORIAN
METHOD:PUBLISH
X-ORIGINAL-URL:https://www.visitthemalverns.org
X-WR-CALDESC:Events for Visit The Malverns
REFRESH-INTERVAL;VALUE=DURATION:PT1H
X-Robots-Tag:noindex
X-PUBLISHED-TTL:PT1H
BEGIN:VTIMEZONE
TZID:Europe/London
BEGIN:DAYLIGHT
TZOFFSETFROM:+0000
TZOFFSETTO:+0100
TZNAME:BST
DTSTART:20250330T010000
END:DAYLIGHT
BEGIN:STANDARD
TZOFFSETFROM:+0100
TZOFFSETTO:+0000
TZNAME:GMT
DTSTART:20251026T010000
END:STANDARD
BEGIN:DAYLIGHT
TZOFFSETFROM:+0000
TZOFFSETTO:+0100
TZNAME:BST
DTSTART:20260329T010000
END:DAYLIGHT
BEGIN:STANDARD
TZOFFSETFROM:+0100
TZOFFSETTO:+0000
TZNAME:GMT
DTSTART:20261025T010000
END:STANDARD
BEGIN:DAYLIGHT
TZOFFSETFROM:+0000
TZOFFSETTO:+0100
TZNAME:BST
DTSTART:20270328T010000
END:DAYLIGHT
BEGIN:STANDARD
TZOFFSETFROM:+0100
TZOFFSETTO:+0000
TZNAME:GMT
DTSTART:20271031T010000
END:STANDARD
END:VTIMEZONE
BEGIN:VEVENT
DTSTART;TZID=Europe/London:20261206T160000
DTEND;TZID=Europe/London:20261206T170000
DTSTAMP:20260423T035336
CREATED:20260323T183646Z
LAST-MODIFIED:20260323T183646Z
UID:10023452-1796572800-1796576400@www.visitthemalverns.org
SUMMARY:Organ Recital
DESCRIPTION:In 2026\, St Leonard’s is delighted to host a series of organ recitals by visiting organists and the church’s own organist. \nSunday 5 July 2026\, 4pm\nAndrew Caskie (Great Malvern Priory)\nFree admission (retiring collection); refreshments in the Great Hall \nSunday 2 August 2026\, 4pm\nSean Tucker (freelance organist)\nFree admission (retiring collection); refreshments in the Great Hall \nSunday 6 September 2026\, 4pm\nBarry Rose (formerly Guildford\, St Albans and St Paul’s Cathedrals)\nFree admission (retiring collection); refreshments in the Great Hall \nSunday 4 October 2026\, 4pm\nDavid Hill (IAO President\, organist & conductor)\nFree admission (retiring collection); refreshments in the Great Hall \nSunday 6 December 2026\, 4pm\nAllan Walker (St Leonard’s Church\, Newland)\nFree admission (retiring collection); refreshments in the Great Hall
URL:https://www.visitthemalverns.org/event/organ-recital-5/2026-12-06/
LOCATION:St Leonard’s Church\, Newland\, Malvern\, WR13 5AX
CATEGORIES:Concert,Free,Malvern,Music
ATTACH;FMTTYPE=image/jpeg:https://www.visitthemalverns.org/wp-content/uploads/2021/12/Organ-Rafik-Wahba-unsplash-compressed-e1711025903102.jpg
GEO:52.13437;-2.2997
X-APPLE-STRUCTURED-LOCATION;VALUE=URI;X-ADDRESS=St Leonard’s Church Newland Malvern WR13 5AX;X-APPLE-RADIUS=500;X-TITLE=Newland:geo:-2.2997,52.13437
END:VEVENT
BEGIN:VEVENT
DTSTART;TZID=Europe/London:20261208T183000
DTEND;TZID=Europe/London:20261208T200000
DTSTAMP:20260423T035336
CREATED:20260206T135211Z
LAST-MODIFIED:20260220T142555Z
UID:10022789-1796754600-1796760000@www.visitthemalverns.org
SUMMARY:Great Malvern Priory Organ Recital
DESCRIPTION:As in previous years\, Great Malvern Priory is hosting a series of organ recitals over the course of 2026. Entry is free with a retiring collection. \nProgramme\nSaturday 21 February\, 12pm\nBen Bloor\, Brompton Oratory\, London \nSaturday 21 March\, 12pm\nPiers Maxim\, Great Malvern Priory \nSaturday 23 May\, 12pm\nRichard Gowers\, Hanover Square\, London \nSaturday 25 July\, 12pm\nHilary Norris\, Leominster Priory \nMonday 31 August\, 12pm\nMichael Bacon\, Great Malvern Priory \nSaturday 10 October\, 12pm\nIain Simcock\, Concert Organist \nTuesday 8 December\, 6.30pm\nAndrew Caskie\, Great Malvern Priory\, plays Messiaen’s meditations on the birth of the Saviour – La Nativité Du Seigneur
URL:https://www.visitthemalverns.org/event/great-malvern-priory-organ-recital-3/2026-12-08/
LOCATION:Great Malvern Priory\, WR14 2AY
CATEGORIES:Concert,Malvern,Music
ATTACH;FMTTYPE=image/jpeg:https://www.visitthemalverns.org/wp-content/uploads/2021/12/Organ-Rafik-Wahba-unsplash-compressed-e1711025903102.jpg
GEO:52.11060672681;-2.3285150529525
X-APPLE-STRUCTURED-LOCATION;VALUE=URI;X-ADDRESS=Great Malvern Priory WR14 2AY;X-APPLE-RADIUS=500;X-TITLE=WR14 2AY:geo:-2.3285150529525,52.11060672681
END:VEVENT
BEGIN:VEVENT
DTSTART;TZID=Europe/London:20261219T193000
DTEND;TZID=Europe/London:20261219T223000
DTSTAMP:20260423T035336
CREATED:20260201T114715Z
LAST-MODIFIED:20260210T143204Z
UID:10022462-1797708600-1797719400@www.visitthemalverns.org
SUMMARY:Folk at The Fold
DESCRIPTION:Folk at The Fold is a monthly folk club held in the Cart House at The Fold – beautiful half-timbered surroundings with lovely acoustics – perfect for the folk songs that you love to sing or hear among genuine folk friends. \nThese are lively\, often humorous and always varied monthly folk evenings led by Eric and Eileen Payne. \nThe club runs every 4th Saturday (except December – 3rd Saturday) of the month from 7.30pm to 10.30pm. \nThe entrance fee is £2.50\, payable on the door. You just need to bring your own drinks (but tea / coffee and biscuits are available throughout the evening) and a smile! \nDates in 2026\nSaturday 24 January\nSaturday 28 February\nSaturday 28 March – featuring a new play\, Mucky Boots\, Maps and Midges\nSaturday 25 April\nSaturday 23 May\nSaturday 27 June\nSaturday 25 July\nSaturday 22 August\nSaturday 26 September\nSaturday 24 October\nSaturday 28 November\nSaturday 19 December (3rd Saturday)
URL:https://www.visitthemalverns.org/event/folk-at-the-fold/2026-12-19/
LOCATION:The Fold\, Bransford\, Worcester\, WR6 5JB\, United Kingdom
CATEGORIES:Community,Concert,Malvern,Music
ATTACH;FMTTYPE=image/jpeg:https://www.visitthemalverns.org/wp-content/uploads/2023/12/Live-music-stock-image-e1731250009379.jpg
GEO:52.1717428;-2.2956841
X-APPLE-STRUCTURED-LOCATION;VALUE=URI;X-ADDRESS=The Fold Bransford Worcester WR6 5JB United Kingdom;X-APPLE-RADIUS=500;X-TITLE=Bransford:geo:-2.2956841,52.1717428
END:VEVENT
END:VCALENDAR