BEGIN:VCALENDAR
VERSION:2.0
PRODID:-//Visit The Malverns - ECPv6.15.20//NONSGML v1.0//EN
CALSCALE:GREGORIAN
METHOD:PUBLISH
X-WR-CALNAME:Visit The Malverns
X-ORIGINAL-URL:https://www.visitthemalverns.org
X-WR-CALDESC:Events for Visit The Malverns
REFRESH-INTERVAL;VALUE=DURATION:PT1H
X-Robots-Tag:noindex
X-PUBLISHED-TTL:PT1H
BEGIN:VTIMEZONE
TZID:Europe/London
BEGIN:DAYLIGHT
TZOFFSETFROM:+0000
TZOFFSETTO:+0100
TZNAME:BST
DTSTART:20250330T010000
END:DAYLIGHT
BEGIN:STANDARD
TZOFFSETFROM:+0100
TZOFFSETTO:+0000
TZNAME:GMT
DTSTART:20251026T010000
END:STANDARD
BEGIN:DAYLIGHT
TZOFFSETFROM:+0000
TZOFFSETTO:+0100
TZNAME:BST
DTSTART:20260329T010000
END:DAYLIGHT
BEGIN:STANDARD
TZOFFSETFROM:+0100
TZOFFSETTO:+0000
TZNAME:GMT
DTSTART:20261025T010000
END:STANDARD
BEGIN:DAYLIGHT
TZOFFSETFROM:+0000
TZOFFSETTO:+0100
TZNAME:BST
DTSTART:20270328T010000
END:DAYLIGHT
BEGIN:STANDARD
TZOFFSETFROM:+0100
TZOFFSETTO:+0000
TZNAME:GMT
DTSTART:20271031T010000
END:STANDARD
END:VTIMEZONE
BEGIN:VEVENT
DTSTART;TZID=Europe/London:20260606T123000
DTEND;TZID=Europe/London:20260606T163000
DTSTAMP:20260419T181955
CREATED:20240321T134823Z
LAST-MODIFIED:20251231T161436Z
UID:10021995-1780749000-1780763400@www.visitthemalverns.org
SUMMARY:Forthampton Court (Garden Open for National Garden Scheme)
DESCRIPTION:Charming and varied garden surrounding North Gloucestershire medieval manor house (not open) within sight of the splendid Tewkesbury Abbey. Includes borders\, lawns\, roses and magnificent Victorian vegetable garden. \nFor this open day\, you can either book your tickets online in advance or just turn up and pay on the day (cash or card). \nAdmission\nAdult: £8\nChild: Free \nDates in 2026\nSaturday 6 June\, 12.30pm – 4.30pm\nSunday 7 June\, 12.30pm – 4.30pm \nHomemade teas available on both dates.
URL:https://www.visitthemalverns.org/event/forthampton-court-garden-open-for-national-garden-scheme/2026-06-06/
LOCATION:Forthampton Court\, Forthampton\, Tewkesbury\, GL19 4RD
CATEGORIES:Charity,Garden
ATTACH;FMTTYPE=image/png:https://www.visitthemalverns.org/wp-content/uploads/2024/02/NGS-logo-2024.png
GEO:51.98434;-2.19053
X-APPLE-STRUCTURED-LOCATION;VALUE=URI;X-ADDRESS=Forthampton Court Forthampton Tewkesbury GL19 4RD;X-APPLE-RADIUS=500;X-TITLE=Forthampton:geo:-2.19053,51.98434
END:VEVENT
BEGIN:VEVENT
DTSTART;TZID=Europe/London:20260607T123000
DTEND;TZID=Europe/London:20260607T163000
DTSTAMP:20260419T181955
CREATED:20240321T134823Z
LAST-MODIFIED:20251231T161436Z
UID:10021996-1780835400-1780849800@www.visitthemalverns.org
SUMMARY:Forthampton Court (Garden Open for National Garden Scheme)
DESCRIPTION:Charming and varied garden surrounding North Gloucestershire medieval manor house (not open) within sight of the splendid Tewkesbury Abbey. Includes borders\, lawns\, roses and magnificent Victorian vegetable garden. \nFor this open day\, you can either book your tickets online in advance or just turn up and pay on the day (cash or card). \nAdmission\nAdult: £8\nChild: Free \nDates in 2026\nSaturday 6 June\, 12.30pm – 4.30pm\nSunday 7 June\, 12.30pm – 4.30pm \nHomemade teas available on both dates.
URL:https://www.visitthemalverns.org/event/forthampton-court-garden-open-for-national-garden-scheme/2026-06-07/
LOCATION:Forthampton Court\, Forthampton\, Tewkesbury\, GL19 4RD
CATEGORIES:Charity,Garden
ATTACH;FMTTYPE=image/png:https://www.visitthemalverns.org/wp-content/uploads/2024/02/NGS-logo-2024.png
GEO:51.98434;-2.19053
X-APPLE-STRUCTURED-LOCATION;VALUE=URI;X-ADDRESS=Forthampton Court Forthampton Tewkesbury GL19 4RD;X-APPLE-RADIUS=500;X-TITLE=Forthampton:geo:-2.19053,51.98434
END:VEVENT
END:VCALENDAR