BEGIN:VCALENDAR
VERSION:2.0
PRODID:-//Visit The Malverns - ECPv6.15.20//NONSGML v1.0//EN
CALSCALE:GREGORIAN
METHOD:PUBLISH
X-WR-CALNAME:Visit The Malverns
X-ORIGINAL-URL:https://www.visitthemalverns.org
X-WR-CALDESC:Events for Visit The Malverns
REFRESH-INTERVAL;VALUE=DURATION:PT1H
X-Robots-Tag:noindex
X-PUBLISHED-TTL:PT1H
BEGIN:VTIMEZONE
TZID:Europe/London
BEGIN:DAYLIGHT
TZOFFSETFROM:+0000
TZOFFSETTO:+0100
TZNAME:BST
DTSTART:20230326T010000
END:DAYLIGHT
BEGIN:STANDARD
TZOFFSETFROM:+0100
TZOFFSETTO:+0000
TZNAME:GMT
DTSTART:20231029T010000
END:STANDARD
BEGIN:DAYLIGHT
TZOFFSETFROM:+0000
TZOFFSETTO:+0100
TZNAME:BST
DTSTART:20240331T010000
END:DAYLIGHT
BEGIN:STANDARD
TZOFFSETFROM:+0100
TZOFFSETTO:+0000
TZNAME:GMT
DTSTART:20241027T010000
END:STANDARD
BEGIN:DAYLIGHT
TZOFFSETFROM:+0000
TZOFFSETTO:+0100
TZNAME:BST
DTSTART:20250330T010000
END:DAYLIGHT
BEGIN:STANDARD
TZOFFSETFROM:+0100
TZOFFSETTO:+0000
TZNAME:GMT
DTSTART:20251026T010000
END:STANDARD
BEGIN:DAYLIGHT
TZOFFSETFROM:+0000
TZOFFSETTO:+0100
TZNAME:BST
DTSTART:20260329T010000
END:DAYLIGHT
BEGIN:STANDARD
TZOFFSETFROM:+0100
TZOFFSETTO:+0000
TZNAME:GMT
DTSTART:20261025T010000
END:STANDARD
END:VTIMEZONE
BEGIN:VEVENT
DTSTART;VALUE=DATE:20250713
DTEND;VALUE=DATE:20250714
DTSTAMP:20260424T120005
CREATED:20250708T155617Z
LAST-MODIFIED:20250708T155617Z
UID:10019734-1752364800-1752451199@www.visitthemalverns.org
SUMMARY:Charity Family Fun Day & Simon Oliver Memorial
DESCRIPTION:The six-a-side cricket tournament is an annual event\, with the first match starting at 10.30am and the final at around 6pm. Team are signed up and ready to go. \nThe family fun day stalls will be open from 12pm – 3pm\, including cakes\, tombola\, raffle\, games and bouncy castle\, bar and BBQ (latter two open for most of the day). \nThe event will help to raise funds for Heartstart Malvern\, a local charity that will have a stall and be doing demonstrations. \nEntry is free and all are welcome.
URL:https://www.visitthemalverns.org/event/charity-family-fun-day-simon-oliver-memorial/
LOCATION:Colwall Cricket Club\, Stowe Lane\, Colwall\, WR13 6EH
CATEGORIES:Charity,Christmas,Community,Craft,Dog Friendly,Drink,Food,Free
ATTACH;FMTTYPE=image/jpeg:https://www.visitthemalverns.org/wp-content/uploads/2025/07/Cricket-ball-by-Alessandro-Bogliari-on-Unsplash.jpg
GEO:52.0744342;-2.368784
X-APPLE-STRUCTURED-LOCATION;VALUE=URI;X-ADDRESS=Colwall Cricket Club Stowe Lane Colwall WR13 6EH;X-APPLE-RADIUS=500;X-TITLE=Stowe Lane:geo:-2.368784,52.0744342
END:VEVENT
BEGIN:VEVENT
DTSTART;TZID=Europe/London:20240616T150000
DTEND;TZID=Europe/London:20240616T170000
DTSTAMP:20260424T120005
CREATED:20240511T145708Z
LAST-MODIFIED:20240511T145708Z
UID:10014812-1718550000-1718557200@www.visitthemalverns.org
SUMMARY:Outside Edge
DESCRIPTION:Colwall Players present Outside Edge by Richard Harris. \n“Roger has enough trouble assembling his cricket team\, but these complications pale before those occurring among their various wives and girlfriends\, and will rain stop play?” \nA first for Colwall Players\, choosing to present a full-length outdoor production\, this was an irresistible project\, a cricket-themed comedy to be staged in the appropriate setting of a cricket pavilion. \nThe Colwall Players are hugely grateful for the support and encouragement from Colwall Cricket Club in moving this venture forward. \nLike Roger\, they hope for good weather and look forward to sharing this hilarious play under warm\, sunny skies\, but they won’t let rain stop this play! \nPerformances\nThursday 13 June 2024\, 7pm\nSaturday 15 June 2024\, 7pm\nSunday 16 June 2024\, 3pm \nPlease bring your own seating for this outdoor production. \nTickets\nCost £12 (£6 for under 16s) – available from John Goodwin (Colwall) on 01684 540300 or ‘on the field’.
URL:https://www.visitthemalverns.org/event/outside-edge/2024-06-16/
LOCATION:Colwall Cricket Club\, Stowe Lane\, Colwall\, WR13 6EH
CATEGORIES:Comedy,Community,Theatre
ATTACH;FMTTYPE=image/jpeg:https://www.visitthemalverns.org/wp-content/uploads/2021/06/iStock-178357283-theatre-resized-1-e1758120760526.jpg
GEO:52.0744342;-2.368784
X-APPLE-STRUCTURED-LOCATION;VALUE=URI;X-ADDRESS=Colwall Cricket Club Stowe Lane Colwall WR13 6EH;X-APPLE-RADIUS=500;X-TITLE=Stowe Lane:geo:-2.368784,52.0744342
END:VEVENT
BEGIN:VEVENT
DTSTART;TZID=Europe/London:20240615T190000
DTEND;TZID=Europe/London:20240615T210000
DTSTAMP:20260424T120005
CREATED:20240511T145708Z
LAST-MODIFIED:20240511T145708Z
UID:10014811-1718478000-1718485200@www.visitthemalverns.org
SUMMARY:Outside Edge
DESCRIPTION:Colwall Players present Outside Edge by Richard Harris. \n“Roger has enough trouble assembling his cricket team\, but these complications pale before those occurring among their various wives and girlfriends\, and will rain stop play?” \nA first for Colwall Players\, choosing to present a full-length outdoor production\, this was an irresistible project\, a cricket-themed comedy to be staged in the appropriate setting of a cricket pavilion. \nThe Colwall Players are hugely grateful for the support and encouragement from Colwall Cricket Club in moving this venture forward. \nLike Roger\, they hope for good weather and look forward to sharing this hilarious play under warm\, sunny skies\, but they won’t let rain stop this play! \nPerformances\nThursday 13 June 2024\, 7pm\nSaturday 15 June 2024\, 7pm\nSunday 16 June 2024\, 3pm \nPlease bring your own seating for this outdoor production. \nTickets\nCost £12 (£6 for under 16s) – available from John Goodwin (Colwall) on 01684 540300 or ‘on the field’.
URL:https://www.visitthemalverns.org/event/outside-edge/2024-06-15/
LOCATION:Colwall Cricket Club\, Stowe Lane\, Colwall\, WR13 6EH
CATEGORIES:Comedy,Community,Theatre
ATTACH;FMTTYPE=image/jpeg:https://www.visitthemalverns.org/wp-content/uploads/2021/06/iStock-178357283-theatre-resized-1-e1758120760526.jpg
GEO:52.0744342;-2.368784
X-APPLE-STRUCTURED-LOCATION;VALUE=URI;X-ADDRESS=Colwall Cricket Club Stowe Lane Colwall WR13 6EH;X-APPLE-RADIUS=500;X-TITLE=Stowe Lane:geo:-2.368784,52.0744342
END:VEVENT
BEGIN:VEVENT
DTSTART;TZID=Europe/London:20240613T190000
DTEND;TZID=Europe/London:20240613T210000
DTSTAMP:20260424T120005
CREATED:20240511T145708Z
LAST-MODIFIED:20240511T145708Z
UID:10014810-1718305200-1718312400@www.visitthemalverns.org
SUMMARY:Outside Edge
DESCRIPTION:Colwall Players present Outside Edge by Richard Harris. \n“Roger has enough trouble assembling his cricket team\, but these complications pale before those occurring among their various wives and girlfriends\, and will rain stop play?” \nA first for Colwall Players\, choosing to present a full-length outdoor production\, this was an irresistible project\, a cricket-themed comedy to be staged in the appropriate setting of a cricket pavilion. \nThe Colwall Players are hugely grateful for the support and encouragement from Colwall Cricket Club in moving this venture forward. \nLike Roger\, they hope for good weather and look forward to sharing this hilarious play under warm\, sunny skies\, but they won’t let rain stop this play! \nPerformances\nThursday 13 June 2024\, 7pm\nSaturday 15 June 2024\, 7pm\nSunday 16 June 2024\, 3pm \nPlease bring your own seating for this outdoor production. \nTickets\nCost £12 (£6 for under 16s) – available from John Goodwin (Colwall) on 01684 540300 or ‘on the field’.
URL:https://www.visitthemalverns.org/event/outside-edge/2024-06-13/
LOCATION:Colwall Cricket Club\, Stowe Lane\, Colwall\, WR13 6EH
CATEGORIES:Comedy,Community,Theatre
ATTACH;FMTTYPE=image/jpeg:https://www.visitthemalverns.org/wp-content/uploads/2021/06/iStock-178357283-theatre-resized-1-e1758120760526.jpg
GEO:52.0744342;-2.368784
X-APPLE-STRUCTURED-LOCATION;VALUE=URI;X-ADDRESS=Colwall Cricket Club Stowe Lane Colwall WR13 6EH;X-APPLE-RADIUS=500;X-TITLE=Stowe Lane:geo:-2.368784,52.0744342
END:VEVENT
END:VCALENDAR