BEGIN:VCALENDAR
VERSION:2.0
PRODID:-//Visit The Malverns - ECPv6.15.20//NONSGML v1.0//EN
CALSCALE:GREGORIAN
METHOD:PUBLISH
X-ORIGINAL-URL:https://www.visitthemalverns.org
X-WR-CALDESC:Events for Visit The Malverns
REFRESH-INTERVAL;VALUE=DURATION:PT1H
X-Robots-Tag:noindex
X-PUBLISHED-TTL:PT1H
BEGIN:VTIMEZONE
TZID:Europe/London
BEGIN:DAYLIGHT
TZOFFSETFROM:+0000
TZOFFSETTO:+0100
TZNAME:BST
DTSTART:20240331T010000
END:DAYLIGHT
BEGIN:STANDARD
TZOFFSETFROM:+0100
TZOFFSETTO:+0000
TZNAME:GMT
DTSTART:20241027T010000
END:STANDARD
BEGIN:DAYLIGHT
TZOFFSETFROM:+0000
TZOFFSETTO:+0100
TZNAME:BST
DTSTART:20250330T010000
END:DAYLIGHT
BEGIN:STANDARD
TZOFFSETFROM:+0100
TZOFFSETTO:+0000
TZNAME:GMT
DTSTART:20251026T010000
END:STANDARD
BEGIN:DAYLIGHT
TZOFFSETFROM:+0000
TZOFFSETTO:+0100
TZNAME:BST
DTSTART:20260329T010000
END:DAYLIGHT
BEGIN:STANDARD
TZOFFSETFROM:+0100
TZOFFSETTO:+0000
TZNAME:GMT
DTSTART:20261025T010000
END:STANDARD
END:VTIMEZONE
BEGIN:VEVENT
DTSTART;TZID=Europe/London:20251231T211500
DTEND;TZID=Europe/London:20251231T233000
DTSTAMP:20260421T113226
CREATED:20251218T122650Z
LAST-MODIFIED:20251218T124844Z
UID:10021744-1767215700-1767223800@www.visitthemalverns.org
SUMMARY:Ring in the New Year at the Colwall Park Hotel
DESCRIPTION:Celebrate in style with live music from Krescendo\, a delicious 4-course dinner\, and a glass of fizz at midnight to toast the New Year. \nJoin us for an unforgettable evening filled with laughter\, music\, and wonderful company. Don’t miss out on the perfect start to 2026! \nTickets: £55 per person \nOvernight packages are available for either one or two nights! \nBook: call the Colwall Park Hotel on 01684 540000 \nN.B. The start time of 9.15pm refers to the live music only; for full timings\, please ask at time of booking
URL:https://www.visitthemalverns.org/event/ring-in-the-new-year-at-the-colwall-park-hotel/
LOCATION:Colwall Park Hotel\, Walwyn Road\, Colwall\, WR13 6QG
CATEGORIES:Food,Malvern,Music
ATTACH;FMTTYPE=image/jpeg:https://www.visitthemalverns.org/wp-content/uploads/2025/12/Happy-New-Year-by-Natalie-Kinnear-on-Unsplash.jpg
GEO:52.08057;-2.35786
X-APPLE-STRUCTURED-LOCATION;VALUE=URI;X-ADDRESS=Colwall Park Hotel Walwyn Road Colwall WR13 6QG;X-APPLE-RADIUS=500;X-TITLE=Walwyn Road:geo:-2.35786,52.08057
END:VEVENT
END:VCALENDAR