BEGIN:VCALENDAR
VERSION:2.0
PRODID:-//Visit The Malverns - ECPv6.15.20//NONSGML v1.0//EN
CALSCALE:GREGORIAN
METHOD:PUBLISH
X-WR-CALNAME:Visit The Malverns
X-ORIGINAL-URL:https://www.visitthemalverns.org
X-WR-CALDESC:Events for Visit The Malverns
REFRESH-INTERVAL;VALUE=DURATION:PT1H
X-Robots-Tag:noindex
X-PUBLISHED-TTL:PT1H
BEGIN:VTIMEZONE
TZID:Europe/London
BEGIN:DAYLIGHT
TZOFFSETFROM:+0000
TZOFFSETTO:+0100
TZNAME:BST
DTSTART:20250330T010000
END:DAYLIGHT
BEGIN:STANDARD
TZOFFSETFROM:+0100
TZOFFSETTO:+0000
TZNAME:GMT
DTSTART:20251026T010000
END:STANDARD
BEGIN:DAYLIGHT
TZOFFSETFROM:+0000
TZOFFSETTO:+0100
TZNAME:BST
DTSTART:20260329T010000
END:DAYLIGHT
BEGIN:STANDARD
TZOFFSETFROM:+0100
TZOFFSETTO:+0000
TZNAME:GMT
DTSTART:20261025T010000
END:STANDARD
BEGIN:DAYLIGHT
TZOFFSETFROM:+0000
TZOFFSETTO:+0100
TZNAME:BST
DTSTART:20270328T010000
END:DAYLIGHT
BEGIN:STANDARD
TZOFFSETFROM:+0100
TZOFFSETTO:+0000
TZNAME:GMT
DTSTART:20271031T010000
END:STANDARD
END:VTIMEZONE
BEGIN:VEVENT
DTSTART;TZID=Europe/London:20260917T110000
DTEND;TZID=Europe/London:20260917T130000
DTSTAMP:20260422T203212
CREATED:20250523T153357Z
LAST-MODIFIED:20260210T145133Z
UID:10022382-1789642800-1789650000@www.visitthemalverns.org
SUMMARY:History of RAF Defford Walk
DESCRIPTION:A walk through Croome Park reveals the way in which RAF Defford changed the 18th century landscape created by Lancelot ‘Capability’ Brown. Along the way\, there are tales of an extraordinary airfield waiting to be told. \nThis secret airbase was where Radar was installed in the aircraft of the Telecommunications Research Establishment (TRE) and tested and developed to help win the Second World War. Walking round the various points will allow the walker to gain an understanding of the scale of the operation. \nConducted by an RAF Defford Museum volunteer telling stories of the various sites around the airfield and the grounds\, the walk will last around 2 hours\, starting and finishing at the museum with the opportunity to visit the museum afterwards. \nNormal admission charges apply for Croome. \nThe guided walk costs £5 (booking essential) – visit the National Trust website to reserve your place \nDates in 2026\nWednesday 4 March\, 11am – 1pm\nThursday 16 April\, 11am – 1pm\nWednesday 13 May\, 11am – 1pm\nThursday 11 June\, 11am – 1pm\nWednesday 8 July\, 11am – 1pm\nThursday 6 August\, 11am – 1pm\nThursday 17 September\, 11am – 1pm\nWednesday 7 October\, 11am – 1pm\nThursday 5 November\, 11am – 1pm
URL:https://www.visitthemalverns.org/event/history-of-raf-defford-walk-2/2026-09-17/
LOCATION:Croome Park\, High Green\, Worcester\, Worcs\, WR8 9DW
CATEGORIES:Talk,Upton upon Severn,Walks
ATTACH;FMTTYPE=image/jpeg:https://www.visitthemalverns.org/wp-content/uploads/2024/04/Walking-from-Unsplash.jpg
GEO:52.1042101;-2.1644462
X-APPLE-STRUCTURED-LOCATION;VALUE=URI;X-ADDRESS=Croome Park High Green Worcester Worcs WR8 9DW;X-APPLE-RADIUS=500;X-TITLE=High Green:geo:-2.1644462,52.1042101
END:VEVENT
BEGIN:VEVENT
DTSTART;TZID=Europe/London:20261005T103000
DTEND;TZID=Europe/London:20261005T120000
DTSTAMP:20260422T203212
CREATED:20250124T154202Z
LAST-MODIFIED:20260210T152714Z
UID:10022371-1791196200-1791201600@www.visitthemalverns.org
SUMMARY:Health Walks
DESCRIPTION:Improve your fitness and wellbeing with Croome’s guided health walks in the parkland all year round. \nThe trained volunteer walk leaders will offer a choice of 30\, 60 or 90 minute walks (no pre-booking needed) to participants to: \n• Explore Croome’s parkland at a suitable pace for you\n• Develop your fitness and well being\n• Enjoy the company of others \nIf extreme weather is forecast\, it may be necessary to cancel. Please check the Croome homepage on the National Trust website for updates prior to each walk. \nHealth walks are free to join and no booking is required. \nMeet outside Visitor Welcome Centre from 10am for 10.30am start. \nDates in 2026\nMonday 2 February\, 10.30am\nMonday 2 March\, 10.30am\nMonday 13 April\, 10.30am\nMonday 11 May\, 10.30am\nMonday 1 June\, 10.30am\nMonday 6 July\, 10.30am\nMonday 7 September\, 10.30am\nMonday 5 October\, 10.30am\nMonday 2 November\, 10.30am\nMonday 7 December\, 10.30am
URL:https://www.visitthemalverns.org/event/health-walks/2026-10-05/
LOCATION:Croome Park\, High Green\, Worcester\, Worcs\, WR8 9DW
CATEGORIES:Upton upon Severn,Walks
ATTACH;FMTTYPE=image/jpeg:https://www.visitthemalverns.org/wp-content/uploads/2024/04/Walking-from-Unsplash.jpg
GEO:52.1042101;-2.1644462
X-APPLE-STRUCTURED-LOCATION;VALUE=URI;X-ADDRESS=Croome Park High Green Worcester Worcs WR8 9DW;X-APPLE-RADIUS=500;X-TITLE=High Green:geo:-2.1644462,52.1042101
END:VEVENT
BEGIN:VEVENT
DTSTART;TZID=Europe/London:20261007T110000
DTEND;TZID=Europe/London:20261007T130000
DTSTAMP:20260422T203212
CREATED:20250523T153357Z
LAST-MODIFIED:20260210T145133Z
UID:10022383-1791370800-1791378000@www.visitthemalverns.org
SUMMARY:History of RAF Defford Walk
DESCRIPTION:A walk through Croome Park reveals the way in which RAF Defford changed the 18th century landscape created by Lancelot ‘Capability’ Brown. Along the way\, there are tales of an extraordinary airfield waiting to be told. \nThis secret airbase was where Radar was installed in the aircraft of the Telecommunications Research Establishment (TRE) and tested and developed to help win the Second World War. Walking round the various points will allow the walker to gain an understanding of the scale of the operation. \nConducted by an RAF Defford Museum volunteer telling stories of the various sites around the airfield and the grounds\, the walk will last around 2 hours\, starting and finishing at the museum with the opportunity to visit the museum afterwards. \nNormal admission charges apply for Croome. \nThe guided walk costs £5 (booking essential) – visit the National Trust website to reserve your place \nDates in 2026\nWednesday 4 March\, 11am – 1pm\nThursday 16 April\, 11am – 1pm\nWednesday 13 May\, 11am – 1pm\nThursday 11 June\, 11am – 1pm\nWednesday 8 July\, 11am – 1pm\nThursday 6 August\, 11am – 1pm\nThursday 17 September\, 11am – 1pm\nWednesday 7 October\, 11am – 1pm\nThursday 5 November\, 11am – 1pm
URL:https://www.visitthemalverns.org/event/history-of-raf-defford-walk-2/2026-10-07/
LOCATION:Croome Park\, High Green\, Worcester\, Worcs\, WR8 9DW
CATEGORIES:Talk,Upton upon Severn,Walks
ATTACH;FMTTYPE=image/jpeg:https://www.visitthemalverns.org/wp-content/uploads/2024/04/Walking-from-Unsplash.jpg
GEO:52.1042101;-2.1644462
X-APPLE-STRUCTURED-LOCATION;VALUE=URI;X-ADDRESS=Croome Park High Green Worcester Worcs WR8 9DW;X-APPLE-RADIUS=500;X-TITLE=High Green:geo:-2.1644462,52.1042101
END:VEVENT
BEGIN:VEVENT
DTSTART;TZID=Europe/London:20261102T103000
DTEND;TZID=Europe/London:20261102T120000
DTSTAMP:20260422T203212
CREATED:20250124T154202Z
LAST-MODIFIED:20260210T152714Z
UID:10022372-1793615400-1793620800@www.visitthemalverns.org
SUMMARY:Health Walks
DESCRIPTION:Improve your fitness and wellbeing with Croome’s guided health walks in the parkland all year round. \nThe trained volunteer walk leaders will offer a choice of 30\, 60 or 90 minute walks (no pre-booking needed) to participants to: \n• Explore Croome’s parkland at a suitable pace for you\n• Develop your fitness and well being\n• Enjoy the company of others \nIf extreme weather is forecast\, it may be necessary to cancel. Please check the Croome homepage on the National Trust website for updates prior to each walk. \nHealth walks are free to join and no booking is required. \nMeet outside Visitor Welcome Centre from 10am for 10.30am start. \nDates in 2026\nMonday 2 February\, 10.30am\nMonday 2 March\, 10.30am\nMonday 13 April\, 10.30am\nMonday 11 May\, 10.30am\nMonday 1 June\, 10.30am\nMonday 6 July\, 10.30am\nMonday 7 September\, 10.30am\nMonday 5 October\, 10.30am\nMonday 2 November\, 10.30am\nMonday 7 December\, 10.30am
URL:https://www.visitthemalverns.org/event/health-walks/2026-11-02/
LOCATION:Croome Park\, High Green\, Worcester\, Worcs\, WR8 9DW
CATEGORIES:Upton upon Severn,Walks
ATTACH;FMTTYPE=image/jpeg:https://www.visitthemalverns.org/wp-content/uploads/2024/04/Walking-from-Unsplash.jpg
GEO:52.1042101;-2.1644462
X-APPLE-STRUCTURED-LOCATION;VALUE=URI;X-ADDRESS=Croome Park High Green Worcester Worcs WR8 9DW;X-APPLE-RADIUS=500;X-TITLE=High Green:geo:-2.1644462,52.1042101
END:VEVENT
BEGIN:VEVENT
DTSTART;TZID=Europe/London:20261104T120000
DTEND;TZID=Europe/London:20261104T143000
DTSTAMP:20260422T203212
CREATED:20250523T151304Z
LAST-MODIFIED:20260211T155431Z
UID:10022389-1793793600-1793802600@www.visitthemalverns.org
SUMMARY:Panorama Tower Open Day
DESCRIPTION:Visit the Panorama Tower at Croome\, constructed in 1801 by James Wyatt for the 6th Earl of Coventry. Visitors will enjoy panoramic views of the countryside from the balcony of the structure that is not normally open to the public. \nThis is a free event (normal admission charges for the venue do apply) and donations to support caring for Croome are appreciated. Booking is not necessary. \nDates in 2026\nTuesday 24 March\, 12pm – 2.30pm\nWednesday 27 May\, 12pm – 2.30pm\nSaturday 25 July\, 12pm – 2.30pm\nMonday 14 September\, 12pm – 2.30pm\nWednesday 4 November\, 12pm – 2.30pm \nPhoto: National Trust
URL:https://www.visitthemalverns.org/event/panorama-tower-open-day/2026-11-04/
LOCATION:Croome Park\, High Green\, Worcester\, Worcs\, WR8 9DW
CATEGORIES:Upton upon Severn,Walks
ATTACH;FMTTYPE=image/jpeg:https://www.visitthemalverns.org/wp-content/uploads/2023/10/Panorama-Tower-credit-National-Trust.jpg
GEO:52.1042101;-2.1644462
X-APPLE-STRUCTURED-LOCATION;VALUE=URI;X-ADDRESS=Croome Park High Green Worcester Worcs WR8 9DW;X-APPLE-RADIUS=500;X-TITLE=High Green:geo:-2.1644462,52.1042101
END:VEVENT
BEGIN:VEVENT
DTSTART;TZID=Europe/London:20261105T110000
DTEND;TZID=Europe/London:20261105T130000
DTSTAMP:20260422T203212
CREATED:20250523T153357Z
LAST-MODIFIED:20260210T145133Z
UID:10022384-1793876400-1793883600@www.visitthemalverns.org
SUMMARY:History of RAF Defford Walk
DESCRIPTION:A walk through Croome Park reveals the way in which RAF Defford changed the 18th century landscape created by Lancelot ‘Capability’ Brown. Along the way\, there are tales of an extraordinary airfield waiting to be told. \nThis secret airbase was where Radar was installed in the aircraft of the Telecommunications Research Establishment (TRE) and tested and developed to help win the Second World War. Walking round the various points will allow the walker to gain an understanding of the scale of the operation. \nConducted by an RAF Defford Museum volunteer telling stories of the various sites around the airfield and the grounds\, the walk will last around 2 hours\, starting and finishing at the museum with the opportunity to visit the museum afterwards. \nNormal admission charges apply for Croome. \nThe guided walk costs £5 (booking essential) – visit the National Trust website to reserve your place \nDates in 2026\nWednesday 4 March\, 11am – 1pm\nThursday 16 April\, 11am – 1pm\nWednesday 13 May\, 11am – 1pm\nThursday 11 June\, 11am – 1pm\nWednesday 8 July\, 11am – 1pm\nThursday 6 August\, 11am – 1pm\nThursday 17 September\, 11am – 1pm\nWednesday 7 October\, 11am – 1pm\nThursday 5 November\, 11am – 1pm
URL:https://www.visitthemalverns.org/event/history-of-raf-defford-walk-2/2026-11-05/
LOCATION:Croome Park\, High Green\, Worcester\, Worcs\, WR8 9DW
CATEGORIES:Talk,Upton upon Severn,Walks
ATTACH;FMTTYPE=image/jpeg:https://www.visitthemalverns.org/wp-content/uploads/2024/04/Walking-from-Unsplash.jpg
GEO:52.1042101;-2.1644462
X-APPLE-STRUCTURED-LOCATION;VALUE=URI;X-ADDRESS=Croome Park High Green Worcester Worcs WR8 9DW;X-APPLE-RADIUS=500;X-TITLE=High Green:geo:-2.1644462,52.1042101
END:VEVENT
BEGIN:VEVENT
DTSTART;TZID=Europe/London:20261207T103000
DTEND;TZID=Europe/London:20261207T120000
DTSTAMP:20260422T203212
CREATED:20250124T154202Z
LAST-MODIFIED:20260210T152714Z
UID:10022373-1796639400-1796644800@www.visitthemalverns.org
SUMMARY:Health Walks
DESCRIPTION:Improve your fitness and wellbeing with Croome’s guided health walks in the parkland all year round. \nThe trained volunteer walk leaders will offer a choice of 30\, 60 or 90 minute walks (no pre-booking needed) to participants to: \n• Explore Croome’s parkland at a suitable pace for you\n• Develop your fitness and well being\n• Enjoy the company of others \nIf extreme weather is forecast\, it may be necessary to cancel. Please check the Croome homepage on the National Trust website for updates prior to each walk. \nHealth walks are free to join and no booking is required. \nMeet outside Visitor Welcome Centre from 10am for 10.30am start. \nDates in 2026\nMonday 2 February\, 10.30am\nMonday 2 March\, 10.30am\nMonday 13 April\, 10.30am\nMonday 11 May\, 10.30am\nMonday 1 June\, 10.30am\nMonday 6 July\, 10.30am\nMonday 7 September\, 10.30am\nMonday 5 October\, 10.30am\nMonday 2 November\, 10.30am\nMonday 7 December\, 10.30am
URL:https://www.visitthemalverns.org/event/health-walks/2026-12-07/
LOCATION:Croome Park\, High Green\, Worcester\, Worcs\, WR8 9DW
CATEGORIES:Upton upon Severn,Walks
ATTACH;FMTTYPE=image/jpeg:https://www.visitthemalverns.org/wp-content/uploads/2024/04/Walking-from-Unsplash.jpg
GEO:52.1042101;-2.1644462
X-APPLE-STRUCTURED-LOCATION;VALUE=URI;X-ADDRESS=Croome Park High Green Worcester Worcs WR8 9DW;X-APPLE-RADIUS=500;X-TITLE=High Green:geo:-2.1644462,52.1042101
END:VEVENT
END:VCALENDAR