BEGIN:VCALENDAR
VERSION:2.0
PRODID:-//Visit The Malverns - ECPv6.15.20//NONSGML v1.0//EN
CALSCALE:GREGORIAN
METHOD:PUBLISH
X-WR-CALNAME:Visit The Malverns
X-ORIGINAL-URL:https://www.visitthemalverns.org
X-WR-CALDESC:Events for Visit The Malverns
REFRESH-INTERVAL;VALUE=DURATION:PT1H
X-Robots-Tag:noindex
X-PUBLISHED-TTL:PT1H
BEGIN:VTIMEZONE
TZID:Europe/London
BEGIN:DAYLIGHT
TZOFFSETFROM:+0000
TZOFFSETTO:+0100
TZNAME:BST
DTSTART:20240331T010000
END:DAYLIGHT
BEGIN:STANDARD
TZOFFSETFROM:+0100
TZOFFSETTO:+0000
TZNAME:GMT
DTSTART:20241027T010000
END:STANDARD
BEGIN:DAYLIGHT
TZOFFSETFROM:+0000
TZOFFSETTO:+0100
TZNAME:BST
DTSTART:20250330T010000
END:DAYLIGHT
BEGIN:STANDARD
TZOFFSETFROM:+0100
TZOFFSETTO:+0000
TZNAME:GMT
DTSTART:20251026T010000
END:STANDARD
BEGIN:DAYLIGHT
TZOFFSETFROM:+0000
TZOFFSETTO:+0100
TZNAME:BST
DTSTART:20260329T010000
END:DAYLIGHT
BEGIN:STANDARD
TZOFFSETFROM:+0100
TZOFFSETTO:+0000
TZNAME:GMT
DTSTART:20261025T010000
END:STANDARD
END:VTIMEZONE
BEGIN:VEVENT
DTSTART;TZID=Europe/London:20251224T190000
DTEND;TZID=Europe/London:20251224T203000
DTSTAMP:20260425T000816
CREATED:20251101T162810Z
LAST-MODIFIED:20251101T164046Z
UID:10021288-1766602800-1766608200@www.visitthemalverns.org
SUMMARY:Carols in the Crescent
DESCRIPTION:Share in the joy of the Christmas story and join us in singing favourite carols\, accompanied by a small group of musicians. \nWarm fruit punch and mince pies available afterwards. \nThis is an outdoor event organised by Lansdowne Crescent Methodist Church\, with free entry. \nIt’s family-friendly and well-behaved dogs on leads are welcome.
URL:https://www.visitthemalverns.org/event/carols-in-the-crescent/
LOCATION:Lansdowne Crescent\, Lansdowne Crescent\, Malvern\, WR14 2AW
CATEGORIES:Children,Christmas,Community,Dog Friendly,Drink,Family,Food,Free,Malvern,Music
ATTACH;FMTTYPE=image/jpeg:https://www.visitthemalverns.org/wp-content/uploads/2021/12/Christmas-candlelight-myriam-zilles-unsplash-compressed-e1668608601265.jpg
GEO:52.11242;-2.31992
X-APPLE-STRUCTURED-LOCATION;VALUE=URI;X-ADDRESS=Lansdowne Crescent Lansdowne Crescent Malvern WR14 2AW;X-APPLE-RADIUS=500;X-TITLE=Lansdowne Crescent:geo:-2.31992,52.11242
END:VEVENT
END:VCALENDAR