BEGIN:VCALENDAR
VERSION:2.0
PRODID:-//Visit The Malverns - ECPv6.15.20//NONSGML v1.0//EN
CALSCALE:GREGORIAN
METHOD:PUBLISH
X-WR-CALNAME:Visit The Malverns
X-ORIGINAL-URL:https://www.visitthemalverns.org
X-WR-CALDESC:Events for Visit The Malverns
REFRESH-INTERVAL;VALUE=DURATION:PT1H
X-Robots-Tag:noindex
X-PUBLISHED-TTL:PT1H
BEGIN:VTIMEZONE
TZID:Europe/London
BEGIN:DAYLIGHT
TZOFFSETFROM:+0000
TZOFFSETTO:+0100
TZNAME:BST
DTSTART:20250330T010000
END:DAYLIGHT
BEGIN:STANDARD
TZOFFSETFROM:+0100
TZOFFSETTO:+0000
TZNAME:GMT
DTSTART:20251026T010000
END:STANDARD
BEGIN:DAYLIGHT
TZOFFSETFROM:+0000
TZOFFSETTO:+0100
TZNAME:BST
DTSTART:20260329T010000
END:DAYLIGHT
BEGIN:STANDARD
TZOFFSETFROM:+0100
TZOFFSETTO:+0000
TZNAME:GMT
DTSTART:20261025T010000
END:STANDARD
BEGIN:DAYLIGHT
TZOFFSETFROM:+0000
TZOFFSETTO:+0100
TZNAME:BST
DTSTART:20270328T010000
END:DAYLIGHT
BEGIN:STANDARD
TZOFFSETFROM:+0100
TZOFFSETTO:+0000
TZNAME:GMT
DTSTART:20271031T010000
END:STANDARD
END:VTIMEZONE
BEGIN:VEVENT
DTSTART;TZID=Europe/London:20260426T193000
DTEND;TZID=Europe/London:20260426T213000
DTSTAMP:20260419T190422
CREATED:20260327T163636Z
LAST-MODIFIED:20260327T163636Z
UID:10023456-1777231800-1777239000@www.visitthemalverns.org
SUMMARY:Comedy Quingo
DESCRIPTION:Join Rhys Harris-Clark and Judie Boom for another soiree of tomfoolery\, with ‘pointfull’ games and pointless prizes. This time it’s Springo Quingo! \nWhich special celeb* guests will grace the Malvern Cube with their presence? \nEntry costs £6 entry (book online)\, with star prizes to be won carefully curated from the illustrious charity shops of Malvern! \nDoors open at 7pm\, eyes down when the chaos is ready. \nFull bar available. \n*celebs may be artificially generated
URL:https://www.visitthemalverns.org/event/comedy-quingo/
LOCATION:Malvern Cube\, WR14 2YF
CATEGORIES:Community,Malvern,Quiz
ATTACH;FMTTYPE=image/jpeg:https://www.visitthemalverns.org/wp-content/uploads/2024/05/Question-mark-for-quiz.jpg
GEO:52.1140503;-2.3227255
X-APPLE-STRUCTURED-LOCATION;VALUE=URI;X-ADDRESS=Malvern Cube WR14 2YF;X-APPLE-RADIUS=500;X-TITLE=WR14 2YF:geo:-2.3227255,52.1140503
END:VEVENT
BEGIN:VEVENT
DTSTART;TZID=Europe/London:20260503T120000
DTEND;TZID=Europe/London:20260503T133000
DTSTAMP:20260419T190422
CREATED:20260416T155708Z
LAST-MODIFIED:20260416T155708Z
UID:10023599-1777809600-1777815000@www.visitthemalverns.org
SUMMARY:Malvern Water: One Billion Years
DESCRIPTION:An illustrated presentation about the story of Malvern water by Carly Tinkler\, with a chance to meet the MSA team and learn about where Malvern’s iconic hills came from. \nTickets: £5 – book online via the Malvern Cube website \n 
URL:https://www.visitthemalverns.org/event/malvern-water-one-billion-years/
LOCATION:Malvern Cube\, WR14 2YF
CATEGORIES:Community,Festival,Malvern,Talk
ATTACH;FMTTYPE=image/jpeg:https://www.visitthemalverns.org/wp-content/uploads/2022/03/Water-Festival-logo-1-e1713612385931.jpg
GEO:52.1140503;-2.3227255
X-APPLE-STRUCTURED-LOCATION;VALUE=URI;X-ADDRESS=Malvern Cube WR14 2YF;X-APPLE-RADIUS=500;X-TITLE=WR14 2YF:geo:-2.3227255,52.1140503
END:VEVENT
BEGIN:VEVENT
DTSTART;TZID=Europe/London:20260504T160000
DTEND;TZID=Europe/London:20260504T170000
DTSTAMP:20260419T190422
CREATED:20260416T161941Z
LAST-MODIFIED:20260416T161941Z
UID:10023600-1777910400-1777914000@www.visitthemalverns.org
SUMMARY:Restoring Ancient Wells by Charlotte Emily Rose
DESCRIPTION:Malvern Spa Association is excited to be joined by guest Charlotte Emily Rose all the way from Kinsale\, Ireland\, for a passionate\, inspirational talk about her mission to restore ancient wells around the globe. \nTickets: £5 + booking fee – book online via the Malvern Cube website
URL:https://www.visitthemalverns.org/event/restoring-ancient-wells-by-charlotte-emily-rose/
LOCATION:Malvern Cube\, WR14 2YF
CATEGORIES:Festival,Talk,Upton upon Severn
ATTACH;FMTTYPE=image/jpeg:https://www.visitthemalverns.org/wp-content/uploads/2022/03/Water-Festival-logo-1-e1713612385931.jpg
GEO:52.1140503;-2.3227255
X-APPLE-STRUCTURED-LOCATION;VALUE=URI;X-ADDRESS=Malvern Cube WR14 2YF;X-APPLE-RADIUS=500;X-TITLE=WR14 2YF:geo:-2.3227255,52.1140503
END:VEVENT
BEGIN:VEVENT
DTSTART;TZID=Europe/London:20260523T190000
DTEND;TZID=Europe/London:20260523T210000
DTSTAMP:20260419T190422
CREATED:20260418T155512Z
LAST-MODIFIED:20260418T155512Z
UID:10023611-1779562800-1779570000@www.visitthemalverns.org
SUMMARY:Enigma Re-imagined (Elgar Festival)
DESCRIPTION:An exciting new collaboration for 2026 led by Malvern-based multi-disciplinary artist Nakisha Swatton. In the run up to the festival Nakisha will work with local amateur and professional musicians to explore & create new musical portraits inspired by Elgar’s Enigma Variations\, culminating in this performance of a new contemporary multi-instrumental suite. \nPerformers\nNakisha Swatton\, director\nMalvern Taiko Drummers\nDaniel Neville String Ensemble\nBlack Voices Choir\nAcademy of Contemporary Music Birmingham\nGrosvenor Road Studios\nString Box Duo\, Jill & Martin \nTickets: £8 – available via the Elgar Festival website. \nVisit the Elgar Festival website for more of this year’s events.
URL:https://www.visitthemalverns.org/event/enigma-re-imagined-elgar-festival/
LOCATION:Malvern Cube\, WR14 2YF
CATEGORIES:Community,Concert,Festival,Malvern,Music
ATTACH;FMTTYPE=image/jpeg:https://www.visitthemalverns.org/wp-content/uploads/2026/03/Elgar-Festival-final-2026.jpg
GEO:52.1140503;-2.3227255
X-APPLE-STRUCTURED-LOCATION;VALUE=URI;X-ADDRESS=Malvern Cube WR14 2YF;X-APPLE-RADIUS=500;X-TITLE=WR14 2YF:geo:-2.3227255,52.1140503
END:VEVENT
BEGIN:VEVENT
DTSTART;TZID=Europe/London:20260613T193000
DTEND;TZID=Europe/London:20260613T213000
DTSTAMP:20260419T190422
CREATED:20260327T164852Z
LAST-MODIFIED:20260327T164852Z
UID:10023457-1781379000-1781386200@www.visitthemalverns.org
SUMMARY:Maddy Prior
DESCRIPTION:The Queen of Folk Rock\, Maddy Prior has spent a lifetime singing\, largely traditional songs\, and remains one of the most influential voices in British folk music. \nAlongside her celebrated work with Steeleye Span\, Maddy has written longer\, more exploratory pieces covering subjects as wide-ranging as hares\, ravens\, the Plantagenets\, King Arthur and an imaginative journey through the Chakras. \nMostly written with co-writers\, she has now set time aside to create a new piece with Andrew (Spud) Sinclair\, guitarist with Steeleye Span. With the aid of some modern technology\, they will present an evening of thoughtful and engaging material\, blending newly written work with depth and atmosphere. \nThe evening will also\, of course\, include a selection of traditional and familiar songs\, as Maddy continues to bring fresh visions after all these years. \n​Fully-stocked bar available for pre-show and interval drinks (card or cash payment accepted). \nTickets available to book online via the Malvern Cube website (early bird deal available until end of April).
URL:https://www.visitthemalverns.org/event/maddy-prior/
LOCATION:Malvern Cube\, WR14 2YF
CATEGORIES:Concert,Malvern,Music
ATTACH;FMTTYPE=image/jpeg:https://www.visitthemalverns.org/wp-content/uploads/2021/08/iStock-688015678-music-Resized-1.jpg
GEO:52.1140503;-2.3227255
X-APPLE-STRUCTURED-LOCATION;VALUE=URI;X-ADDRESS=Malvern Cube WR14 2YF;X-APPLE-RADIUS=500;X-TITLE=WR14 2YF:geo:-2.3227255,52.1140503
END:VEVENT
BEGIN:VEVENT
DTSTART;TZID=Europe/London:20261030T200000
DTEND;TZID=Europe/London:20261030T230000
DTSTAMP:20260419T190422
CREATED:20260123T161928Z
LAST-MODIFIED:20260123T161928Z
UID:10022318-1793390400-1793401200@www.visitthemalverns.org
SUMMARY:Peatbog Faeries
DESCRIPTION:Hailing from the Isle of Skye\, the legendary Scottish pioneers have crafted a compelling and glorious mixture of traditional sounds and dance-floor grooves that has been embraced all over the world. Weaving a dazzling myriad of influences from jigs and reels through dance music\, jazz\, African\, and more\, the band brings the sound of Scotland fresh-faced and breathless to the new audiences worldwide. Their predominantly instrumental music allows the band to build exciting themes and soundscapes\, as well as locking into their trademark hypnotic sound that no-one can resist dancing to! \nTickets: £27.10 including booking fee
URL:https://www.visitthemalverns.org/event/peatbog-faeries/
LOCATION:Malvern Cube\, WR14 2YF
CATEGORIES:Concert,Malvern,Music
ATTACH;FMTTYPE=image/jpeg:https://www.visitthemalverns.org/wp-content/uploads/2021/08/iStock-688015678-music-Resized-1.jpg
GEO:52.1140503;-2.3227255
X-APPLE-STRUCTURED-LOCATION;VALUE=URI;X-ADDRESS=Malvern Cube WR14 2YF;X-APPLE-RADIUS=500;X-TITLE=WR14 2YF:geo:-2.3227255,52.1140503
END:VEVENT
END:VCALENDAR