BEGIN:VCALENDAR
VERSION:2.0
PRODID:-//Visit The Malverns - ECPv6.15.20//NONSGML v1.0//EN
CALSCALE:GREGORIAN
METHOD:PUBLISH
X-WR-CALNAME:Visit The Malverns
X-ORIGINAL-URL:https://www.visitthemalverns.org
X-WR-CALDESC:Events for Visit The Malverns
REFRESH-INTERVAL;VALUE=DURATION:PT1H
X-Robots-Tag:noindex
X-PUBLISHED-TTL:PT1H
BEGIN:VTIMEZONE
TZID:Europe/London
BEGIN:DAYLIGHT
TZOFFSETFROM:+0000
TZOFFSETTO:+0100
TZNAME:BST
DTSTART:20240331T010000
END:DAYLIGHT
BEGIN:STANDARD
TZOFFSETFROM:+0100
TZOFFSETTO:+0000
TZNAME:GMT
DTSTART:20241027T010000
END:STANDARD
BEGIN:DAYLIGHT
TZOFFSETFROM:+0000
TZOFFSETTO:+0100
TZNAME:BST
DTSTART:20250330T010000
END:DAYLIGHT
BEGIN:STANDARD
TZOFFSETFROM:+0100
TZOFFSETTO:+0000
TZNAME:GMT
DTSTART:20251026T010000
END:STANDARD
BEGIN:DAYLIGHT
TZOFFSETFROM:+0000
TZOFFSETTO:+0100
TZNAME:BST
DTSTART:20260329T010000
END:DAYLIGHT
BEGIN:STANDARD
TZOFFSETFROM:+0100
TZOFFSETTO:+0000
TZNAME:GMT
DTSTART:20261025T010000
END:STANDARD
END:VTIMEZONE
BEGIN:VEVENT
DTSTART;TZID=Europe/London:20250726T130000
DTEND;TZID=Europe/London:20250726T170000
DTSTAMP:20260422T091218
CREATED:20250708T144721Z
LAST-MODIFIED:20250708T144721Z
UID:10019732-1753534800-1753549200@www.visitthemalverns.org
SUMMARY:Another Wonderful Mathon Experience
DESCRIPTION:The afternoon begins with a Ploughman’s lunch at 1pm in Mathon Church\, followed by a treasure hunt (on foot) for adults and children\, after which tea and cakes will be served in the churchyard. \nTickets\n£10 adults\n£25 family (2 adults and 2 children)\n£5 additional children (under 10 years) \nSee the Mathon Church website for booking contacts. \nProceeds from the event will go to Mathon Church funds.
URL:https://www.visitthemalverns.org/event/another-wonderful-mathon-experience/
LOCATION:Mathon Church\, Mathon\, Malvern\, WR13 5PW
CATEGORIES:Drink,Family,Food,Trail
ATTACH;FMTTYPE=image/jpeg:https://www.visitthemalverns.org/wp-content/uploads/2025/07/Compass-image-by-Jamie-Street-on-Unsplash.jpg
GEO:52.11026;-2.39037
X-APPLE-STRUCTURED-LOCATION;VALUE=URI;X-ADDRESS=Mathon Church Mathon Malvern WR13 5PW;X-APPLE-RADIUS=500;X-TITLE=Mathon:geo:-2.39037,52.11026
END:VEVENT
END:VCALENDAR