BEGIN:VCALENDAR
VERSION:2.0
PRODID:-//Visit The Malverns - ECPv6.15.20//NONSGML v1.0//EN
CALSCALE:GREGORIAN
METHOD:PUBLISH
X-WR-CALNAME:Visit The Malverns
X-ORIGINAL-URL:https://www.visitthemalverns.org
X-WR-CALDESC:Events for Visit The Malverns
REFRESH-INTERVAL;VALUE=DURATION:PT1H
X-Robots-Tag:noindex
X-PUBLISHED-TTL:PT1H
BEGIN:VTIMEZONE
TZID:Europe/London
BEGIN:DAYLIGHT
TZOFFSETFROM:+0000
TZOFFSETTO:+0100
TZNAME:BST
DTSTART:20240331T010000
END:DAYLIGHT
BEGIN:STANDARD
TZOFFSETFROM:+0100
TZOFFSETTO:+0000
TZNAME:GMT
DTSTART:20241027T010000
END:STANDARD
BEGIN:DAYLIGHT
TZOFFSETFROM:+0000
TZOFFSETTO:+0100
TZNAME:BST
DTSTART:20250330T010000
END:DAYLIGHT
BEGIN:STANDARD
TZOFFSETFROM:+0100
TZOFFSETTO:+0000
TZNAME:GMT
DTSTART:20251026T010000
END:STANDARD
BEGIN:DAYLIGHT
TZOFFSETFROM:+0000
TZOFFSETTO:+0100
TZNAME:BST
DTSTART:20260329T010000
END:DAYLIGHT
BEGIN:STANDARD
TZOFFSETFROM:+0100
TZOFFSETTO:+0000
TZNAME:GMT
DTSTART:20261025T010000
END:STANDARD
END:VTIMEZONE
BEGIN:VEVENT
DTSTART;TZID=Europe/London:20250726T140000
DTEND;TZID=Europe/London:20250726T153000
DTSTAMP:20260419T232247
CREATED:20250718T092332Z
LAST-MODIFIED:20250718T092332Z
UID:10019772-1753538400-1753543800@www.visitthemalverns.org
SUMMARY:Organ Recital: Jake Scicinski Plays Elgar & 'Friends'
DESCRIPTION:Jake usually plays at Brentwood Cathedral and the Jesuit Church\, Farm Street\, London. \nCome and listen to the organ works of Elgar\, as well as Brahms\, Parry and Bach. Refresh your afternoon with the comforting notes of Victorian musical gems. \nAdmission is free (retiring collection).
URL:https://www.visitthemalverns.org/event/organ-recital-jake-scicinski-plays-elgar-friends/
LOCATION:St Wulstan’s Church\, Wells Road\, Malvern\, WR14 4JL
CATEGORIES:Concert,Malvern,Music
ATTACH;FMTTYPE=image/jpeg:https://www.visitthemalverns.org/wp-content/uploads/2021/12/Organ-Rafik-Wahba-unsplash-compressed-e1711025903102.jpg
GEO:52.06673;-2.33582
X-APPLE-STRUCTURED-LOCATION;VALUE=URI;X-ADDRESS=St Wulstan’s Church Wells Road Malvern WR14 4JL;X-APPLE-RADIUS=500;X-TITLE=Wells Road:geo:-2.33582,52.06673
END:VEVENT
BEGIN:VEVENT
DTSTART;TZID=Europe/London:20250405T190000
DTEND;TZID=Europe/London:20250405T220000
DTSTAMP:20260419T232247
CREATED:20250120T105915Z
LAST-MODIFIED:20250308T133954Z
UID:10017612-1743879600-1743890400@www.visitthemalverns.org
SUMMARY:A Celebration of Bach
DESCRIPTION:Part of the Little Malvern Priory’s Celebration Year festivities\, this concert includes performances of the Double Violin Concerto in D minor\, Solo Cello Suite No. 3 in C (played by Jane Hyland)\, arias for tenor (sung by Bryan Husband)\, and Brandenburg Concertos 3 & 6. With the St Giles 875 Festival Players\, led by Brigid Kirkland-Wilson. \nTickets: £10 cash on the door
URL:https://www.visitthemalverns.org/event/a-celebration-of-bach/
LOCATION:St Wulstan’s Church\, Wells Road\, Malvern\, WR14 4JL
CATEGORIES:Concert,Malvern
ATTACH;FMTTYPE=image/jpeg:https://www.visitthemalverns.org/wp-content/uploads/2025/01/Little-Malvern-Priory.jpg
GEO:52.06673;-2.33582
X-APPLE-STRUCTURED-LOCATION;VALUE=URI;X-ADDRESS=St Wulstan’s Church Wells Road Malvern WR14 4JL;X-APPLE-RADIUS=500;X-TITLE=Wells Road:geo:-2.33582,52.06673
END:VEVENT
END:VCALENDAR