BEGIN:VCALENDAR
VERSION:2.0
PRODID:-//Visit The Malverns - ECPv6.15.20//NONSGML v1.0//EN
CALSCALE:GREGORIAN
METHOD:PUBLISH
X-ORIGINAL-URL:https://www.visitthemalverns.org
X-WR-CALDESC:Events for Visit The Malverns
REFRESH-INTERVAL;VALUE=DURATION:PT1H
X-Robots-Tag:noindex
X-PUBLISHED-TTL:PT1H
BEGIN:VTIMEZONE
TZID:Europe/London
BEGIN:DAYLIGHT
TZOFFSETFROM:+0000
TZOFFSETTO:+0100
TZNAME:BST
DTSTART:20250330T010000
END:DAYLIGHT
BEGIN:STANDARD
TZOFFSETFROM:+0100
TZOFFSETTO:+0000
TZNAME:GMT
DTSTART:20251026T010000
END:STANDARD
BEGIN:DAYLIGHT
TZOFFSETFROM:+0000
TZOFFSETTO:+0100
TZNAME:BST
DTSTART:20260329T010000
END:DAYLIGHT
BEGIN:STANDARD
TZOFFSETFROM:+0100
TZOFFSETTO:+0000
TZNAME:GMT
DTSTART:20261025T010000
END:STANDARD
BEGIN:DAYLIGHT
TZOFFSETFROM:+0000
TZOFFSETTO:+0100
TZNAME:BST
DTSTART:20270328T010000
END:DAYLIGHT
BEGIN:STANDARD
TZOFFSETFROM:+0100
TZOFFSETTO:+0000
TZNAME:GMT
DTSTART:20271031T010000
END:STANDARD
END:VTIMEZONE
BEGIN:VEVENT
DTSTART;VALUE=DATE:20260703
DTEND;VALUE=DATE:20260705
DTSTAMP:20260419T181328
CREATED:20240304T103107Z
LAST-MODIFIED:20251229T143855Z
UID:10005909-1783036800-1783209599@www.visitthemalverns.org
SUMMARY:Woo Fest
DESCRIPTION:Winner of the Best Small Festival in the UK in 2019 and 2022. \nA unique charity festival for all ages. All profits go to St Richard’s Hospice in Worcester. \nWoo Fest is a 2 day festival with all types of music.\nHot food\, drink\, kids area with bouncy castle\, 2 stages \nSee website for more details on artists and ticket prices. \nCamping is available
URL:https://www.visitthemalverns.org/event/woo-fest/
LOCATION:The Drum and Monkey\, Newbridge Green\, Upton Upon Severn\, Worcs\, WR8 0QP
CATEGORIES:Concert,Family,Festival,Music,Upton upon Severn
ATTACH;FMTTYPE=image/jpeg:https://www.visitthemalverns.org/wp-content/uploads/2021/08/iStock-688015678-music-Resized-1.jpg
GEO:52.05097;-2.22814
X-APPLE-STRUCTURED-LOCATION;VALUE=URI;X-ADDRESS=The Drum and Monkey Newbridge Green Upton Upon Severn Worcs WR8 0QP;X-APPLE-RADIUS=500;X-TITLE=Newbridge Green:geo:-2.22814,52.05097
END:VEVENT
END:VCALENDAR