BEGIN:VCALENDAR
VERSION:2.0
PRODID:-//Visit The Malverns - ECPv6.15.20//NONSGML v1.0//EN
CALSCALE:GREGORIAN
METHOD:PUBLISH
X-WR-CALNAME:Visit The Malverns
X-ORIGINAL-URL:https://www.visitthemalverns.org
X-WR-CALDESC:Events for Visit The Malverns
REFRESH-INTERVAL;VALUE=DURATION:PT1H
X-Robots-Tag:noindex
X-PUBLISHED-TTL:PT1H
BEGIN:VTIMEZONE
TZID:Europe/London
BEGIN:DAYLIGHT
TZOFFSETFROM:+0000
TZOFFSETTO:+0100
TZNAME:BST
DTSTART:20250330T010000
END:DAYLIGHT
BEGIN:STANDARD
TZOFFSETFROM:+0100
TZOFFSETTO:+0000
TZNAME:GMT
DTSTART:20251026T010000
END:STANDARD
BEGIN:DAYLIGHT
TZOFFSETFROM:+0000
TZOFFSETTO:+0100
TZNAME:BST
DTSTART:20260329T010000
END:DAYLIGHT
BEGIN:STANDARD
TZOFFSETFROM:+0100
TZOFFSETTO:+0000
TZNAME:GMT
DTSTART:20261025T010000
END:STANDARD
BEGIN:DAYLIGHT
TZOFFSETFROM:+0000
TZOFFSETTO:+0100
TZNAME:BST
DTSTART:20270328T010000
END:DAYLIGHT
BEGIN:STANDARD
TZOFFSETFROM:+0100
TZOFFSETTO:+0000
TZNAME:GMT
DTSTART:20271031T010000
END:STANDARD
END:VTIMEZONE
BEGIN:VEVENT
DTSTART;TZID=Europe/London:20260926T193000
DTEND;TZID=Europe/London:20260926T223000
DTSTAMP:20260419T190510
CREATED:20260201T114715Z
LAST-MODIFIED:20260210T143204Z
UID:10022459-1790451000-1790461800@www.visitthemalverns.org
SUMMARY:Folk at The Fold
DESCRIPTION:Folk at The Fold is a monthly folk club held in the Cart House at The Fold – beautiful half-timbered surroundings with lovely acoustics – perfect for the folk songs that you love to sing or hear among genuine folk friends. \nThese are lively\, often humorous and always varied monthly folk evenings led by Eric and Eileen Payne. \nThe club runs every 4th Saturday (except December – 3rd Saturday) of the month from 7.30pm to 10.30pm. \nThe entrance fee is £2.50\, payable on the door. You just need to bring your own drinks (but tea / coffee and biscuits are available throughout the evening) and a smile! \nDates in 2026\nSaturday 24 January\nSaturday 28 February\nSaturday 28 March – featuring a new play\, Mucky Boots\, Maps and Midges\nSaturday 25 April\nSaturday 23 May\nSaturday 27 June\nSaturday 25 July\nSaturday 22 August\nSaturday 26 September\nSaturday 24 October\nSaturday 28 November\nSaturday 19 December (3rd Saturday)
URL:https://www.visitthemalverns.org/event/folk-at-the-fold/2026-09-26/
LOCATION:The Fold\, Bransford\, Worcester\, WR6 5JB\, United Kingdom
CATEGORIES:Community,Concert,Malvern,Music
ATTACH;FMTTYPE=image/jpeg:https://www.visitthemalverns.org/wp-content/uploads/2023/12/Live-music-stock-image-e1731250009379.jpg
GEO:52.1717428;-2.2956841
X-APPLE-STRUCTURED-LOCATION;VALUE=URI;X-ADDRESS=The Fold Bransford Worcester WR6 5JB United Kingdom;X-APPLE-RADIUS=500;X-TITLE=Bransford:geo:-2.2956841,52.1717428
END:VEVENT
BEGIN:VEVENT
DTSTART;TZID=Europe/London:20261004T100000
DTEND;TZID=Europe/London:20261004T150000
DTSTAMP:20260419T190510
CREATED:20260109T150534Z
LAST-MODIFIED:20260330T102239Z
UID:10022070-1791108000-1791126000@www.visitthemalverns.org
SUMMARY:The Fold Monthly Artisan Market
DESCRIPTION:The Fold hosts a vibrant market on the 1st Sunday of every month (except January). Local\, ethical and sustainable businesses with an array of products on offer from incredible street food\, organic vegetables\, jams and beer to plastic-free lifestyle goods\, paintings\, and jewellery with up to 70 stalls to browse. \nBoth parking and entry to the event are free\, plus it’s dog-friendly! \nIndependent shops\, a cafe and nature trails are on-site for you to explore too. There is something for every member of the family to enjoy\, with dogs welcome across the whole site. \nThe market is held on the first Sunday of the month\, February to December inclusive\, from 10am – 3pm. \nDates in 2026\nSunday 1 February\nSunday 1 March\nSunday 5 April\nSunday 3 May\nSunday 7 June\nSunday 5 July\nSunday 2 August\nSunday 6 September\nSunday 4 October\nSunday 1 November\nSunday 6 December
URL:https://www.visitthemalverns.org/event/the-fold-sunday-market-2-2/2026-10-04/
LOCATION:The Fold\, Bransford\, Worcester\, WR6 5JB\, United Kingdom
CATEGORIES:Children,Craft,Family,Free,Market,Shopping
ATTACH;FMTTYPE=image/jpeg:https://www.visitthemalverns.org/wp-content/uploads/2025/04/Artisan-Market.jpg
GEO:52.1717428;-2.2956841
X-APPLE-STRUCTURED-LOCATION;VALUE=URI;X-ADDRESS=The Fold Bransford Worcester WR6 5JB United Kingdom;X-APPLE-RADIUS=500;X-TITLE=Bransford:geo:-2.2956841,52.1717428
END:VEVENT
BEGIN:VEVENT
DTSTART;TZID=Europe/London:20261017T100000
DTEND;TZID=Europe/London:20261017T130000
DTSTAMP:20260419T190510
CREATED:20260201T110034Z
LAST-MODIFIED:20260210T163639Z
UID:10022450-1792231200-1792242000@www.visitthemalverns.org
SUMMARY:Secondhand Saturdays
DESCRIPTION:The Fold hosts Secondhand Saturdays for six months of the year (February – April and September – November inclusive) on the third Saturday of the month from 10am – 1pm. \nCome along to sell your pre-loved and second-hand items\, all undercover in the Market Barn. Think car-boot minus the cars; table-top\, jumble sale vibes but whatever the weather as we’ll be inside the cosy barn! \nSeller pitches must be pre-booked and are £12; table hire is extra. Pitches are first come\, first served on arrival (no pre-allocated locations). \nEntry for buyers is £1 (to help fund the organic community farm) to this eco-friendly event that encourages re-use\, re-purposing and recycling. \nDates in 2026\nSaturday 21 February\nSaturday 21 March\nSaturday 18 April\nSaturday 19 September\nSaturday 17 October\nSaturday 21 November
URL:https://www.visitthemalverns.org/event/secondhand-saturdays-4/2026-10-17/
LOCATION:The Fold\, Bransford\, Worcester\, WR6 5JB\, United Kingdom
CATEGORIES:Community,Shopping
ATTACH;FMTTYPE=image/jpeg:https://www.visitthemalverns.org/wp-content/uploads/2024/12/Secondhand-Saturdays-1200.jpg
GEO:52.1717428;-2.2956841
X-APPLE-STRUCTURED-LOCATION;VALUE=URI;X-ADDRESS=The Fold Bransford Worcester WR6 5JB United Kingdom;X-APPLE-RADIUS=500;X-TITLE=Bransford:geo:-2.2956841,52.1717428
END:VEVENT
BEGIN:VEVENT
DTSTART;TZID=Europe/London:20261024T193000
DTEND;TZID=Europe/London:20261024T223000
DTSTAMP:20260419T190510
CREATED:20260201T114715Z
LAST-MODIFIED:20260210T143204Z
UID:10022460-1792870200-1792881000@www.visitthemalverns.org
SUMMARY:Folk at The Fold
DESCRIPTION:Folk at The Fold is a monthly folk club held in the Cart House at The Fold – beautiful half-timbered surroundings with lovely acoustics – perfect for the folk songs that you love to sing or hear among genuine folk friends. \nThese are lively\, often humorous and always varied monthly folk evenings led by Eric and Eileen Payne. \nThe club runs every 4th Saturday (except December – 3rd Saturday) of the month from 7.30pm to 10.30pm. \nThe entrance fee is £2.50\, payable on the door. You just need to bring your own drinks (but tea / coffee and biscuits are available throughout the evening) and a smile! \nDates in 2026\nSaturday 24 January\nSaturday 28 February\nSaturday 28 March – featuring a new play\, Mucky Boots\, Maps and Midges\nSaturday 25 April\nSaturday 23 May\nSaturday 27 June\nSaturday 25 July\nSaturday 22 August\nSaturday 26 September\nSaturday 24 October\nSaturday 28 November\nSaturday 19 December (3rd Saturday)
URL:https://www.visitthemalverns.org/event/folk-at-the-fold/2026-10-24/
LOCATION:The Fold\, Bransford\, Worcester\, WR6 5JB\, United Kingdom
CATEGORIES:Community,Concert,Malvern,Music
ATTACH;FMTTYPE=image/jpeg:https://www.visitthemalverns.org/wp-content/uploads/2023/12/Live-music-stock-image-e1731250009379.jpg
GEO:52.1717428;-2.2956841
X-APPLE-STRUCTURED-LOCATION;VALUE=URI;X-ADDRESS=The Fold Bransford Worcester WR6 5JB United Kingdom;X-APPLE-RADIUS=500;X-TITLE=Bransford:geo:-2.2956841,52.1717428
END:VEVENT
BEGIN:VEVENT
DTSTART;TZID=Europe/London:20261101T100000
DTEND;TZID=Europe/London:20261101T150000
DTSTAMP:20260419T190510
CREATED:20260109T150534Z
LAST-MODIFIED:20260330T102239Z
UID:10022071-1793527200-1793545200@www.visitthemalverns.org
SUMMARY:The Fold Monthly Artisan Market
DESCRIPTION:The Fold hosts a vibrant market on the 1st Sunday of every month (except January). Local\, ethical and sustainable businesses with an array of products on offer from incredible street food\, organic vegetables\, jams and beer to plastic-free lifestyle goods\, paintings\, and jewellery with up to 70 stalls to browse. \nBoth parking and entry to the event are free\, plus it’s dog-friendly! \nIndependent shops\, a cafe and nature trails are on-site for you to explore too. There is something for every member of the family to enjoy\, with dogs welcome across the whole site. \nThe market is held on the first Sunday of the month\, February to December inclusive\, from 10am – 3pm. \nDates in 2026\nSunday 1 February\nSunday 1 March\nSunday 5 April\nSunday 3 May\nSunday 7 June\nSunday 5 July\nSunday 2 August\nSunday 6 September\nSunday 4 October\nSunday 1 November\nSunday 6 December
URL:https://www.visitthemalverns.org/event/the-fold-sunday-market-2-2/2026-11-01/
LOCATION:The Fold\, Bransford\, Worcester\, WR6 5JB\, United Kingdom
CATEGORIES:Children,Craft,Family,Free,Market,Shopping
ATTACH;FMTTYPE=image/jpeg:https://www.visitthemalverns.org/wp-content/uploads/2025/04/Artisan-Market.jpg
GEO:52.1717428;-2.2956841
X-APPLE-STRUCTURED-LOCATION;VALUE=URI;X-ADDRESS=The Fold Bransford Worcester WR6 5JB United Kingdom;X-APPLE-RADIUS=500;X-TITLE=Bransford:geo:-2.2956841,52.1717428
END:VEVENT
BEGIN:VEVENT
DTSTART;TZID=Europe/London:20261121T100000
DTEND;TZID=Europe/London:20261121T130000
DTSTAMP:20260419T190510
CREATED:20260201T110034Z
LAST-MODIFIED:20260210T163639Z
UID:10022451-1795255200-1795266000@www.visitthemalverns.org
SUMMARY:Secondhand Saturdays
DESCRIPTION:The Fold hosts Secondhand Saturdays for six months of the year (February – April and September – November inclusive) on the third Saturday of the month from 10am – 1pm. \nCome along to sell your pre-loved and second-hand items\, all undercover in the Market Barn. Think car-boot minus the cars; table-top\, jumble sale vibes but whatever the weather as we’ll be inside the cosy barn! \nSeller pitches must be pre-booked and are £12; table hire is extra. Pitches are first come\, first served on arrival (no pre-allocated locations). \nEntry for buyers is £1 (to help fund the organic community farm) to this eco-friendly event that encourages re-use\, re-purposing and recycling. \nDates in 2026\nSaturday 21 February\nSaturday 21 March\nSaturday 18 April\nSaturday 19 September\nSaturday 17 October\nSaturday 21 November
URL:https://www.visitthemalverns.org/event/secondhand-saturdays-4/2026-11-21/
LOCATION:The Fold\, Bransford\, Worcester\, WR6 5JB\, United Kingdom
CATEGORIES:Community,Shopping
ATTACH;FMTTYPE=image/jpeg:https://www.visitthemalverns.org/wp-content/uploads/2024/12/Secondhand-Saturdays-1200.jpg
GEO:52.1717428;-2.2956841
X-APPLE-STRUCTURED-LOCATION;VALUE=URI;X-ADDRESS=The Fold Bransford Worcester WR6 5JB United Kingdom;X-APPLE-RADIUS=500;X-TITLE=Bransford:geo:-2.2956841,52.1717428
END:VEVENT
BEGIN:VEVENT
DTSTART;TZID=Europe/London:20261128T193000
DTEND;TZID=Europe/London:20261128T223000
DTSTAMP:20260419T190510
CREATED:20260201T114715Z
LAST-MODIFIED:20260210T143204Z
UID:10022461-1795894200-1795905000@www.visitthemalverns.org
SUMMARY:Folk at The Fold
DESCRIPTION:Folk at The Fold is a monthly folk club held in the Cart House at The Fold – beautiful half-timbered surroundings with lovely acoustics – perfect for the folk songs that you love to sing or hear among genuine folk friends. \nThese are lively\, often humorous and always varied monthly folk evenings led by Eric and Eileen Payne. \nThe club runs every 4th Saturday (except December – 3rd Saturday) of the month from 7.30pm to 10.30pm. \nThe entrance fee is £2.50\, payable on the door. You just need to bring your own drinks (but tea / coffee and biscuits are available throughout the evening) and a smile! \nDates in 2026\nSaturday 24 January\nSaturday 28 February\nSaturday 28 March – featuring a new play\, Mucky Boots\, Maps and Midges\nSaturday 25 April\nSaturday 23 May\nSaturday 27 June\nSaturday 25 July\nSaturday 22 August\nSaturday 26 September\nSaturday 24 October\nSaturday 28 November\nSaturday 19 December (3rd Saturday)
URL:https://www.visitthemalverns.org/event/folk-at-the-fold/2026-11-28/
LOCATION:The Fold\, Bransford\, Worcester\, WR6 5JB\, United Kingdom
CATEGORIES:Community,Concert,Malvern,Music
ATTACH;FMTTYPE=image/jpeg:https://www.visitthemalverns.org/wp-content/uploads/2023/12/Live-music-stock-image-e1731250009379.jpg
GEO:52.1717428;-2.2956841
X-APPLE-STRUCTURED-LOCATION;VALUE=URI;X-ADDRESS=The Fold Bransford Worcester WR6 5JB United Kingdom;X-APPLE-RADIUS=500;X-TITLE=Bransford:geo:-2.2956841,52.1717428
END:VEVENT
BEGIN:VEVENT
DTSTART;TZID=Europe/London:20261206T100000
DTEND;TZID=Europe/London:20261206T150000
DTSTAMP:20260419T190510
CREATED:20260109T150534Z
LAST-MODIFIED:20260330T102239Z
UID:10022072-1796551200-1796569200@www.visitthemalverns.org
SUMMARY:The Fold Monthly Artisan Market
DESCRIPTION:The Fold hosts a vibrant market on the 1st Sunday of every month (except January). Local\, ethical and sustainable businesses with an array of products on offer from incredible street food\, organic vegetables\, jams and beer to plastic-free lifestyle goods\, paintings\, and jewellery with up to 70 stalls to browse. \nBoth parking and entry to the event are free\, plus it’s dog-friendly! \nIndependent shops\, a cafe and nature trails are on-site for you to explore too. There is something for every member of the family to enjoy\, with dogs welcome across the whole site. \nThe market is held on the first Sunday of the month\, February to December inclusive\, from 10am – 3pm. \nDates in 2026\nSunday 1 February\nSunday 1 March\nSunday 5 April\nSunday 3 May\nSunday 7 June\nSunday 5 July\nSunday 2 August\nSunday 6 September\nSunday 4 October\nSunday 1 November\nSunday 6 December
URL:https://www.visitthemalverns.org/event/the-fold-sunday-market-2-2/2026-12-06/
LOCATION:The Fold\, Bransford\, Worcester\, WR6 5JB\, United Kingdom
CATEGORIES:Children,Craft,Family,Free,Market,Shopping
ATTACH;FMTTYPE=image/jpeg:https://www.visitthemalverns.org/wp-content/uploads/2025/04/Artisan-Market.jpg
GEO:52.1717428;-2.2956841
X-APPLE-STRUCTURED-LOCATION;VALUE=URI;X-ADDRESS=The Fold Bransford Worcester WR6 5JB United Kingdom;X-APPLE-RADIUS=500;X-TITLE=Bransford:geo:-2.2956841,52.1717428
END:VEVENT
BEGIN:VEVENT
DTSTART;TZID=Europe/London:20261219T193000
DTEND;TZID=Europe/London:20261219T223000
DTSTAMP:20260419T190510
CREATED:20260201T114715Z
LAST-MODIFIED:20260210T143204Z
UID:10022462-1797708600-1797719400@www.visitthemalverns.org
SUMMARY:Folk at The Fold
DESCRIPTION:Folk at The Fold is a monthly folk club held in the Cart House at The Fold – beautiful half-timbered surroundings with lovely acoustics – perfect for the folk songs that you love to sing or hear among genuine folk friends. \nThese are lively\, often humorous and always varied monthly folk evenings led by Eric and Eileen Payne. \nThe club runs every 4th Saturday (except December – 3rd Saturday) of the month from 7.30pm to 10.30pm. \nThe entrance fee is £2.50\, payable on the door. You just need to bring your own drinks (but tea / coffee and biscuits are available throughout the evening) and a smile! \nDates in 2026\nSaturday 24 January\nSaturday 28 February\nSaturday 28 March – featuring a new play\, Mucky Boots\, Maps and Midges\nSaturday 25 April\nSaturday 23 May\nSaturday 27 June\nSaturday 25 July\nSaturday 22 August\nSaturday 26 September\nSaturday 24 October\nSaturday 28 November\nSaturday 19 December (3rd Saturday)
URL:https://www.visitthemalverns.org/event/folk-at-the-fold/2026-12-19/
LOCATION:The Fold\, Bransford\, Worcester\, WR6 5JB\, United Kingdom
CATEGORIES:Community,Concert,Malvern,Music
ATTACH;FMTTYPE=image/jpeg:https://www.visitthemalverns.org/wp-content/uploads/2023/12/Live-music-stock-image-e1731250009379.jpg
GEO:52.1717428;-2.2956841
X-APPLE-STRUCTURED-LOCATION;VALUE=URI;X-ADDRESS=The Fold Bransford Worcester WR6 5JB United Kingdom;X-APPLE-RADIUS=500;X-TITLE=Bransford:geo:-2.2956841,52.1717428
END:VEVENT
END:VCALENDAR