BEGIN:VCALENDAR
VERSION:2.0
PRODID:-//Visit The Malverns - ECPv6.15.20//NONSGML v1.0//EN
CALSCALE:GREGORIAN
METHOD:PUBLISH
X-ORIGINAL-URL:https://www.visitthemalverns.org
X-WR-CALDESC:Events for Visit The Malverns
REFRESH-INTERVAL;VALUE=DURATION:PT1H
X-Robots-Tag:noindex
X-PUBLISHED-TTL:PT1H
BEGIN:VTIMEZONE
TZID:Europe/London
BEGIN:DAYLIGHT
TZOFFSETFROM:+0000
TZOFFSETTO:+0100
TZNAME:BST
DTSTART:20250330T010000
END:DAYLIGHT
BEGIN:STANDARD
TZOFFSETFROM:+0100
TZOFFSETTO:+0000
TZNAME:GMT
DTSTART:20251026T010000
END:STANDARD
BEGIN:DAYLIGHT
TZOFFSETFROM:+0000
TZOFFSETTO:+0100
TZNAME:BST
DTSTART:20260329T010000
END:DAYLIGHT
BEGIN:STANDARD
TZOFFSETFROM:+0100
TZOFFSETTO:+0000
TZNAME:GMT
DTSTART:20261025T010000
END:STANDARD
BEGIN:DAYLIGHT
TZOFFSETFROM:+0000
TZOFFSETTO:+0100
TZNAME:BST
DTSTART:20270328T010000
END:DAYLIGHT
BEGIN:STANDARD
TZOFFSETFROM:+0100
TZOFFSETTO:+0000
TZNAME:GMT
DTSTART:20271031T010000
END:STANDARD
END:VTIMEZONE
BEGIN:VEVENT
DTSTART;TZID=Europe/London:20260214T190000
DTEND;TZID=Europe/London:20260214T230000
DTSTAMP:20260420T071754
CREATED:20260213T125238Z
LAST-MODIFIED:20260213T125238Z
UID:10022622-1771095600-1771110000@www.visitthemalverns.org
SUMMARY:Valentine's Night at Malvern Tavern
DESCRIPTION:Celebrate Valentine’s Night at Malvern Tavern with DJ Lofty (live vinyl DJ from 7pm – 11pm) and special cocktails. \n 
URL:https://www.visitthemalverns.org/event/valentines-night-at-malvern-tavern/
LOCATION:The Malvern Tavern\, 79 Belmont Road\, Malvern\, WR14 1PN
CATEGORIES:Community,Drink,Malvern,Music
ATTACH;FMTTYPE=image/jpeg:https://www.visitthemalverns.org/wp-content/uploads/2026/02/Malvern-Tavern-Valentines.jpeg
GEO:52.12775;-2.33477
X-APPLE-STRUCTURED-LOCATION;VALUE=URI;X-ADDRESS=The Malvern Tavern 79 Belmont Road Malvern WR14 1PN;X-APPLE-RADIUS=500;X-TITLE=79 Belmont Road:geo:-2.33477,52.12775
END:VEVENT
END:VCALENDAR