BEGIN:VCALENDAR
VERSION:2.0
PRODID:-//Visit The Malverns - ECPv6.15.20//NONSGML v1.0//EN
CALSCALE:GREGORIAN
METHOD:PUBLISH
X-WR-CALNAME:Visit The Malverns
X-ORIGINAL-URL:https://www.visitthemalverns.org
X-WR-CALDESC:Events for Visit The Malverns
REFRESH-INTERVAL;VALUE=DURATION:PT1H
X-Robots-Tag:noindex
X-PUBLISHED-TTL:PT1H
BEGIN:VTIMEZONE
TZID:Europe/London
BEGIN:DAYLIGHT
TZOFFSETFROM:+0000
TZOFFSETTO:+0100
TZNAME:BST
DTSTART:20250330T010000
END:DAYLIGHT
BEGIN:STANDARD
TZOFFSETFROM:+0100
TZOFFSETTO:+0000
TZNAME:GMT
DTSTART:20251026T010000
END:STANDARD
BEGIN:DAYLIGHT
TZOFFSETFROM:+0000
TZOFFSETTO:+0100
TZNAME:BST
DTSTART:20260329T010000
END:DAYLIGHT
BEGIN:STANDARD
TZOFFSETFROM:+0100
TZOFFSETTO:+0000
TZNAME:GMT
DTSTART:20261025T010000
END:STANDARD
BEGIN:DAYLIGHT
TZOFFSETFROM:+0000
TZOFFSETTO:+0100
TZNAME:BST
DTSTART:20270328T010000
END:DAYLIGHT
BEGIN:STANDARD
TZOFFSETFROM:+0100
TZOFFSETTO:+0000
TZNAME:GMT
DTSTART:20271031T010000
END:STANDARD
END:VTIMEZONE
BEGIN:VEVENT
DTSTART;TZID=Europe/London:20260719T073000
DTEND;TZID=Europe/London:20260719T143000
DTSTAMP:20260419T190704
CREATED:20250519T141207Z
LAST-MODIFIED:20251222T151758Z
UID:10021811-1784446200-1784471400@www.visitthemalverns.org
SUMMARY:Malvern Flea and Collectors Fair
DESCRIPTION:Malvern Flea and Collectors Fair is the largest flea fair in the UK\, held  at the Three Counties Showground\, Malvern. \nThe hundreds of stalls across the halls and even more outside (number of outdoor stands weather-dependent) together create an incredibly eclectic shopping experience\, with items on sale ranging from furniture\, lighting and textiles to jewellery\, clothing\, teddies and toys. This is the perfect event for the interior designer\, crafter\, up-cycler and thrift-seeker. \nOpen: 7.30am – 2.30pm\nEntry cost: £6 (cash only) per person (accompanied children under 16 go free)\nParking: Free\nDogs: Allowed – on short leads (but please avoid bringing them if you can) \nDates in 2026\nSunday 11 January\nSunday 1 March\nMonday 6 April\nMonday 25 May\nSunday 21 June\nSunday 19 July\nMonday 31 August\nSunday 20 September\nSunday 11 October \nFor more information\, visit the B2B Fairs website.
URL:https://www.visitthemalverns.org/event/malvern-flea-and-collectors-fair-3-2/2026-07-19/
LOCATION:Three Counties Showground\, WR13 6NW
CATEGORIES:Dog Friendly,Fair,Family,Malvern,Market,Shopping,Showground
ATTACH;FMTTYPE=image/jpeg:https://www.visitthemalverns.org/wp-content/uploads/2021/12/mats-hagwall-uzl47XdoLww-unsplash-2-e1737728501603.jpg
GEO:52.0828475;-2.3146342
X-APPLE-STRUCTURED-LOCATION;VALUE=URI;X-ADDRESS=Three Counties Showground WR13 6NW;X-APPLE-RADIUS=500;X-TITLE=WR13 6NW:geo:-2.3146342,52.0828475
END:VEVENT
BEGIN:VEVENT
DTSTART;TZID=Europe/London:20260725T100000
DTEND;TZID=Europe/London:20260726T170000
DTSTAMP:20260419T190704
CREATED:20231017T155058Z
LAST-MODIFIED:20260102T140653Z
UID:10004868-1784973600-1785085200@www.visitthemalverns.org
SUMMARY:Three Counties Food and Drink Festival
DESCRIPTION:Get ready for summer as Three Counties Food and Drink Festival returns for its third year to Three Counties Showground\, Malvern – foodie heaven awaits on 25 and 26 July 2026. \nA great foodie day out\, at a great price! Taste some of the best street food with delicious dishes from some of the UK’s best\, sample and buy a fantastic range of food and drink goodies from the region’s producers. Take time out to watch and learn from our special guest TV chefs in our live cookery theatre\, Fire BBQ demo’s or treat yourself with shopping  gorgeous gifts\, crafts\, garden and homewares from our fantastic makers and creators. \nFor more information and tickets\, visit the website. \n 
URL:https://www.visitthemalverns.org/event/three-counties-food-and-drink-festival/
LOCATION:Three Counties Showground\, WR13 6NW
CATEGORIES:Drink,Family,Festival,Food,Malvern,Shopping,Showground
ATTACH;FMTTYPE=image/webp:https://www.visitthemalverns.org/wp-content/uploads/2023/10/ThreeCs-2026-2048x1185-1.webp
GEO:52.0828475;-2.3146342
X-APPLE-STRUCTURED-LOCATION;VALUE=URI;X-ADDRESS=Three Counties Showground WR13 6NW;X-APPLE-RADIUS=500;X-TITLE=WR13 6NW:geo:-2.3146342,52.0828475
END:VEVENT
BEGIN:VEVENT
DTSTART;TZID=Europe/London:20260814T080000
DTEND;TZID=Europe/London:20260816T170000
DTSTAMP:20260419T190704
CREATED:20260201T130756Z
LAST-MODIFIED:20260201T130756Z
UID:10022466-1786694400-1786899600@www.visitthemalverns.org
SUMMARY:TR Register: Car Club Fest 2026
DESCRIPTION:The country’s boldest new show brings clubs\, owners and enthusiasts together for a family-friendly festival weekend like no other! \nBuilt around the theme ‘Stronger Together’\, Car Club Fest brings together over 40 car clubs from around the UK\, covering everything from vintage classics and post-war favourites through to modern performance cars and restomods. This will provide variety on a scale that rewards a full day’s exploring – or a whole weekend if you choose to make a break of it. \nWith the Club Zone\, Trade Zone and Motorsport Zone\, plus live music\, bar\, camping and a live arena and motor show\, there’s so much to enjoy at this big motoring weekend. \nFor more information and booking\, visit the Car Club Fest website.
URL:https://www.visitthemalverns.org/event/tr-register-car-club-fest-2026/
LOCATION:Three Counties Showground\, WR13 6NW
CATEGORIES:Automotive,Exhibition,Malvern,Music
ATTACH;FMTTYPE=image/jpeg:https://www.visitthemalverns.org/wp-content/uploads/2026/02/Triumph-car-photo-by-Nik-on-Unsplash.jpg
GEO:52.0828475;-2.3146342
X-APPLE-STRUCTURED-LOCATION;VALUE=URI;X-ADDRESS=Three Counties Showground WR13 6NW;X-APPLE-RADIUS=500;X-TITLE=WR13 6NW:geo:-2.3146342,52.0828475
END:VEVENT
BEGIN:VEVENT
DTSTART;TZID=Europe/London:20260821T093000
DTEND;TZID=Europe/London:20260823T170000
DTSTAMP:20260419T190704
CREATED:20220704T134043Z
LAST-MODIFIED:20260201T134527Z
UID:10004552-1787304600-1787504400@www.visitthemalverns.org
SUMMARY:Western Motorhome and Campervan Show
DESCRIPTION:Experience the spirit of the West in Malvern! \nIt’s that time of year again! Get ready to dust off your cowboy boots\, grab your hat and saddle up for one of the most iconic weekends of the Warners Shows season\, The Western Motorhome & Campervan Show! Taking place in the beautiful setting of the Three Counties Showground at the foot of the Malvern Hills from 21 – 23 August 2026\, this Country & Western spectacular is a firm favourite for thousands of campers and day visitors alike. \nFeaturing four nights of quality live music\, a vibrant Western-themed atmosphere and the biggest outdoor exhibition area of the year\, this hugely popular event offers shopping\, dancing\, entertainment and friendship all wrapped into one unforgettable weekend – making it the ultimate celebration of the great outdoors. \nHighlights of the Western Motorhome and Campervan Show include: \n\n50+ dealers with new & used motorhomes and campervans for sale\n500+ vehicles to explore and compare on-site\n250+ exhibitors offering everything from accessories to outdoor gear\nFour nights of live country music and entertainment\n19th-century living history displays and re-enactments\nLine dancing tuition and authentic Western performances\nSix free talks daily in the Advice Centre\nLive cookery demos from Vanlife Eats\nOptional extras: EHU\, Saturday headline show & coach trips\nDay tickets include 3 months’ access to the What Motorhome digital archive\n\nVisit the website for full details and booking.
URL:https://www.visitthemalverns.org/event/western-motorhome-and-campervan-show/
LOCATION:Three Counties Showground\, WR13 6NW
CATEGORIES:Automotive,Family,Malvern,Music,Showground
ATTACH;FMTTYPE=image/jpeg:https://www.visitthemalverns.org/wp-content/uploads/2022/07/Western-Motorhome-2026.jpg
GEO:52.0828475;-2.3146342
X-APPLE-STRUCTURED-LOCATION;VALUE=URI;X-ADDRESS=Three Counties Showground WR13 6NW;X-APPLE-RADIUS=500;X-TITLE=WR13 6NW:geo:-2.3146342,52.0828475
END:VEVENT
BEGIN:VEVENT
DTSTART;TZID=Europe/London:20260831T073000
DTEND;TZID=Europe/London:20260831T143000
DTSTAMP:20260419T190704
CREATED:20250519T141207Z
LAST-MODIFIED:20251222T151758Z
UID:10021812-1788161400-1788186600@www.visitthemalverns.org
SUMMARY:Malvern Flea and Collectors Fair
DESCRIPTION:Malvern Flea and Collectors Fair is the largest flea fair in the UK\, held  at the Three Counties Showground\, Malvern. \nThe hundreds of stalls across the halls and even more outside (number of outdoor stands weather-dependent) together create an incredibly eclectic shopping experience\, with items on sale ranging from furniture\, lighting and textiles to jewellery\, clothing\, teddies and toys. This is the perfect event for the interior designer\, crafter\, up-cycler and thrift-seeker. \nOpen: 7.30am – 2.30pm\nEntry cost: £6 (cash only) per person (accompanied children under 16 go free)\nParking: Free\nDogs: Allowed – on short leads (but please avoid bringing them if you can) \nDates in 2026\nSunday 11 January\nSunday 1 March\nMonday 6 April\nMonday 25 May\nSunday 21 June\nSunday 19 July\nMonday 31 August\nSunday 20 September\nSunday 11 October \nFor more information\, visit the B2B Fairs website.
URL:https://www.visitthemalverns.org/event/malvern-flea-and-collectors-fair-3-2/2026-08-31/
LOCATION:Three Counties Showground\, WR13 6NW
CATEGORIES:Dog Friendly,Fair,Family,Malvern,Market,Shopping,Showground
ATTACH;FMTTYPE=image/jpeg:https://www.visitthemalverns.org/wp-content/uploads/2021/12/mats-hagwall-uzl47XdoLww-unsplash-2-e1737728501603.jpg
GEO:52.0828475;-2.3146342
X-APPLE-STRUCTURED-LOCATION;VALUE=URI;X-ADDRESS=Three Counties Showground WR13 6NW;X-APPLE-RADIUS=500;X-TITLE=WR13 6NW:geo:-2.3146342,52.0828475
END:VEVENT
BEGIN:VEVENT
DTSTART;TZID=Europe/London:20260906T083000
DTEND;TZID=Europe/London:20260906T143000
DTSTAMP:20260419T190704
CREATED:20250124T161136Z
LAST-MODIFIED:20260109T175557Z
UID:10022108-1788683400-1788705000@www.visitthemalverns.org
SUMMARY:Toy & Train Collectors Fair
DESCRIPTION:Popular event hosted by Bulldog Fairs\, with a wide range of stalls offering many toys and models for sale in the Severn Hall. \nBrowse over up to 250 stalls selling the best in toy and model collecting. \nFree parking is available and the café will be serving light refreshments all day. \nDates in 2026\nSunday 25 January 2026\nSunday 29 March 2026\nSunday 6 September 2026\nSunday 15 November 2026 \nOpen 10.30am – 2.30pm for standard entry price of £4 in cash (under 16s free with a paying adult) but early-bird entry (from 8.30am) is available for £10 in cash. \nEntry through Yellow Gate. \nPlease visit the Bulldog Fairs website to check final details before travelling.
URL:https://www.visitthemalverns.org/event/toy-collectors-fair/2026-09-06/
LOCATION:Three Counties Showground\, WR13 6NW
CATEGORIES:Fair,Shopping,Showground
ATTACH;FMTTYPE=image/jpeg:https://www.visitthemalverns.org/wp-content/uploads/2025/01/Model-cars-by-Liao-Je-Wei-on-Unsplash.jpg
GEO:52.0828475;-2.3146342
X-APPLE-STRUCTURED-LOCATION;VALUE=URI;X-ADDRESS=Three Counties Showground WR13 6NW;X-APPLE-RADIUS=500;X-TITLE=WR13 6NW:geo:-2.3146342,52.0828475
END:VEVENT
BEGIN:VEVENT
DTSTART;TZID=Europe/London:20260911T090000
DTEND;TZID=Europe/London:20260913T173000
DTSTAMP:20260419T190704
CREATED:20240104T152114Z
LAST-MODIFIED:20260201T135106Z
UID:10004554-1789117200-1789320600@www.visitthemalverns.org
SUMMARY:Busfest 2026
DESCRIPTION:The world’s largest VW Transporter Show\, Busfest\, is returning to Three Counties Showground in Malvern this September. \nBoth weekend camping tickets (on sale now) and day visitor tickets (from April 2026) are available – visit the website for more information and booking.
URL:https://www.visitthemalverns.org/event/busfest-2/
LOCATION:Three Counties Showground\, WR13 6NW
CATEGORIES:Automotive,Children,Fair,Family,Festival,Food,Malvern,Showground
ATTACH;FMTTYPE=image/jpeg:https://www.visitthemalverns.org/wp-content/uploads/2025/04/VW-Camper-image-by-Daniel-Morris-on-Unsplash.jpg
GEO:52.0828475;-2.3146342
X-APPLE-STRUCTURED-LOCATION;VALUE=URI;X-ADDRESS=Three Counties Showground WR13 6NW;X-APPLE-RADIUS=500;X-TITLE=WR13 6NW:geo:-2.3146342,52.0828475
END:VEVENT
BEGIN:VEVENT
DTSTART;TZID=Europe/London:20260920T073000
DTEND;TZID=Europe/London:20260920T143000
DTSTAMP:20260419T190704
CREATED:20250519T141207Z
LAST-MODIFIED:20251222T151758Z
UID:10021813-1789889400-1789914600@www.visitthemalverns.org
SUMMARY:Malvern Flea and Collectors Fair
DESCRIPTION:Malvern Flea and Collectors Fair is the largest flea fair in the UK\, held  at the Three Counties Showground\, Malvern. \nThe hundreds of stalls across the halls and even more outside (number of outdoor stands weather-dependent) together create an incredibly eclectic shopping experience\, with items on sale ranging from furniture\, lighting and textiles to jewellery\, clothing\, teddies and toys. This is the perfect event for the interior designer\, crafter\, up-cycler and thrift-seeker. \nOpen: 7.30am – 2.30pm\nEntry cost: £6 (cash only) per person (accompanied children under 16 go free)\nParking: Free\nDogs: Allowed – on short leads (but please avoid bringing them if you can) \nDates in 2026\nSunday 11 January\nSunday 1 March\nMonday 6 April\nMonday 25 May\nSunday 21 June\nSunday 19 July\nMonday 31 August\nSunday 20 September\nSunday 11 October \nFor more information\, visit the B2B Fairs website.
URL:https://www.visitthemalverns.org/event/malvern-flea-and-collectors-fair-3-2/2026-09-20/
LOCATION:Three Counties Showground\, WR13 6NW
CATEGORIES:Dog Friendly,Fair,Family,Malvern,Market,Shopping,Showground
ATTACH;FMTTYPE=image/jpeg:https://www.visitthemalverns.org/wp-content/uploads/2021/12/mats-hagwall-uzl47XdoLww-unsplash-2-e1737728501603.jpg
GEO:52.0828475;-2.3146342
X-APPLE-STRUCTURED-LOCATION;VALUE=URI;X-ADDRESS=Three Counties Showground WR13 6NW;X-APPLE-RADIUS=500;X-TITLE=WR13 6NW:geo:-2.3146342,52.0828475
END:VEVENT
BEGIN:VEVENT
DTSTART;TZID=Europe/London:20260925T090000
DTEND;TZID=Europe/London:20260927T180000
DTSTAMP:20260419T190704
CREATED:20231215T180313Z
LAST-MODIFIED:20251128T115517Z
UID:10003433-1790326800-1790532000@www.visitthemalverns.org
SUMMARY:Malvern Autumn Show 2026
DESCRIPTION:Celebrate the season in style at the UK’s biggest harvest festival. Malvern Autumn Show is a vibrant\, family-friendly event filled with everything you love about autumn. Enjoy expert talks and demos by BBC Gardeners’ World presenters and celebrity chefs\, shop from countryside stalls\, and immerse yourself in activities for all ages. From the jaw-dropping CANNA UK Giant Vegetables Championship to dazzling RHS floral displays\, the event brings seasonal gardening\, delicious food\, and family fun together across three fantastic days. \nTickets: available from Malvern Tourist Information Centre and the Malvern Autumn Show website .
URL:https://www.visitthemalverns.org/event/malvern-autumn-show/
LOCATION:Three Counties Showground\, WR13 6NW
CATEGORIES:Exhibition,Family,Festival,Garden,Shopping,Showground
ATTACH;FMTTYPE=image/jpeg:https://www.visitthemalverns.org/wp-content/uploads/2023/12/Autumn-Show-2026.jpg
GEO:52.0828475;-2.3146342
X-APPLE-STRUCTURED-LOCATION;VALUE=URI;X-ADDRESS=Three Counties Showground WR13 6NW;X-APPLE-RADIUS=500;X-TITLE=WR13 6NW:geo:-2.3146342,52.0828475
END:VEVENT
BEGIN:VEVENT
DTSTART;TZID=Europe/London:20261002T093000
DTEND;TZID=Europe/London:20261004T160000
DTSTAMP:20260419T190704
CREATED:20240104T152611Z
LAST-MODIFIED:20260201T140636Z
UID:10004555-1790933400-1791129600@www.visitthemalverns.org
SUMMARY:The Malvern Caravan & Motorhome Show
DESCRIPTION:Join like-minded travellers for your great-value autumn break in the Malvern Hills! \nBringing the show season to an end is a relaxing countryside escape at The Malvern Caravan & Motorhome Show\, taking place at Three Counties Showground from 2 – 4 October 2026. \nSet beneath the majestic Malvern Hills\, this popular event is the ideal way to enjoy one last weekend away before winter. Whether you’re hoping to shop for new accessories\, browse caravans and motorhomes\, or simply unwind with friends\, the Malvern Show offers unbeatable value in a warm\, welcoming atmosphere. \nThe Malvern Show is a favourite among campers looking for a laid-back weekend of music\, shopping and inspiration. With 130 exhibitors\, 28 local and national dealers\, and 250+ vehicles displayed\, it’s your perfect opportunity to discover new models\, compare layouts and find those end-of-season deals. There’s so much to see\, all spread across indoor halls and outdoor exhibition areas. \nMake the most of four nights of live entertainment\, meet friendly faces from across the community and enjoy your time at one of Britain’s most beautiful showgrounds. \nHighlights of the 2026 show will include: \n\n28 dealers and 250+ new & used caravans\, campervans and motorhomes for sale\n130 exhibitors indoors and outdoors with thousands of accessories\nLive music and evening entertainment included with camping\nCharity Coffee Morning (Friday) and Fun Dog Show (Sunday)\nGreat-value day tickets and camping pitches\nSaturday Headliners: We Three Kings of Rock n Roll\nOptional extras: EHU & ticket-only Saturday headline show\nDay tickets include 3 months’ access to the What Motorhome digital archive\nCamping pitches include 12 months’ access to the What Motorhome digital archive\n\nBoth camping pitches and day tickets are available to book.
URL:https://www.visitthemalverns.org/event/the-malvern-caravan-motorhome-show/
LOCATION:Three Counties Showground\, WR13 6NW
CATEGORIES:Automotive,Family,Malvern,Shopping,Showground
ATTACH;FMTTYPE=image/jpeg:https://www.visitthemalverns.org/wp-content/uploads/2024/01/Malvern-Caravan-Show-2026.jpg
GEO:52.0828475;-2.3146342
X-APPLE-STRUCTURED-LOCATION;VALUE=URI;X-ADDRESS=Three Counties Showground WR13 6NW;X-APPLE-RADIUS=500;X-TITLE=WR13 6NW:geo:-2.3146342,52.0828475
END:VEVENT
BEGIN:VEVENT
DTSTART;TZID=Europe/London:20261011T073000
DTEND;TZID=Europe/London:20261011T143000
DTSTAMP:20260419T190704
CREATED:20250519T141207Z
LAST-MODIFIED:20251222T151758Z
UID:10021814-1791703800-1791729000@www.visitthemalverns.org
SUMMARY:Malvern Flea and Collectors Fair
DESCRIPTION:Malvern Flea and Collectors Fair is the largest flea fair in the UK\, held  at the Three Counties Showground\, Malvern. \nThe hundreds of stalls across the halls and even more outside (number of outdoor stands weather-dependent) together create an incredibly eclectic shopping experience\, with items on sale ranging from furniture\, lighting and textiles to jewellery\, clothing\, teddies and toys. This is the perfect event for the interior designer\, crafter\, up-cycler and thrift-seeker. \nOpen: 7.30am – 2.30pm\nEntry cost: £6 (cash only) per person (accompanied children under 16 go free)\nParking: Free\nDogs: Allowed – on short leads (but please avoid bringing them if you can) \nDates in 2026\nSunday 11 January\nSunday 1 March\nMonday 6 April\nMonday 25 May\nSunday 21 June\nSunday 19 July\nMonday 31 August\nSunday 20 September\nSunday 11 October \nFor more information\, visit the B2B Fairs website.
URL:https://www.visitthemalverns.org/event/malvern-flea-and-collectors-fair-3-2/2026-10-11/
LOCATION:Three Counties Showground\, WR13 6NW
CATEGORIES:Dog Friendly,Fair,Family,Malvern,Market,Shopping,Showground
ATTACH;FMTTYPE=image/jpeg:https://www.visitthemalverns.org/wp-content/uploads/2021/12/mats-hagwall-uzl47XdoLww-unsplash-2-e1737728501603.jpg
GEO:52.0828475;-2.3146342
X-APPLE-STRUCTURED-LOCATION;VALUE=URI;X-ADDRESS=Three Counties Showground WR13 6NW;X-APPLE-RADIUS=500;X-TITLE=WR13 6NW:geo:-2.3146342,52.0828475
END:VEVENT
BEGIN:VEVENT
DTSTART;TZID=Europe/London:20261016T100000
DTEND;TZID=Europe/London:20261018T160000
DTSTAMP:20260419T190704
CREATED:20231222T173847Z
LAST-MODIFIED:20260201T141712Z
UID:10011379-1792144800-1792339200@www.visitthemalverns.org
SUMMARY:Autumn Quilting & Sewing Show 2026
DESCRIPTION:UK’s No. 1 patchwork and quilting event \nFriday 16 – Sunday 18 October\nFriday – Saturday: 10am – 4pm\nSunday: 9.30am – 3.30pm \nHighlights of the event: \n\nFeature quilt displays from well-known quilters and textile artists\nA variety of exhibitors selling patchwork & quilting supplies for all your needs\nWorkshops available on a first come\, first served basis at the show\nDemonstrators on hand to show you their techniques and to give help and advice\nExcellent facilities\, including restaurant\, disabled access & free parking\n\nAdvance prices\nAdult: £8.50\nSenior Citizen (65+) / Disabled: £7.50\nChild (under 16): Free\nAdvance tickets available until the Wednesday before the show \nOn-the-door prices\nAdult: £11\nSenior Citizen (65+) / Disabled: £10\nChild (under 16): Free \n 
URL:https://www.visitthemalverns.org/event/autumn-quilts-festival/
LOCATION:Three Counties Showground\, WR13 6NW
CATEGORIES:Craft,Exhibition,Malvern,Shopping,Showground
ATTACH;FMTTYPE=image/jpeg:https://www.visitthemalverns.org/wp-content/uploads/2025/01/Quilt-by-Olga-Ferina-on-Unsplash.jpg
GEO:52.0828475;-2.3146342
X-APPLE-STRUCTURED-LOCATION;VALUE=URI;X-ADDRESS=Three Counties Showground WR13 6NW;X-APPLE-RADIUS=500;X-TITLE=WR13 6NW:geo:-2.3146342,52.0828475
END:VEVENT
BEGIN:VEVENT
DTSTART;TZID=Europe/London:20261025T093000
DTEND;TZID=Europe/London:20261025T140000
DTSTAMP:20260419T190704
CREATED:20251227T155925Z
LAST-MODIFIED:20251227T155925Z
UID:10021926-1792920600-1792936800@www.visitthemalverns.org
SUMMARY:Land Rover\, 4×4 and Vintage Autojumble
DESCRIPTION:Land Rover Monthly hosts its last Autojumble event of 2026 on Sunday 25 October (9.30am – 2pm)\, where you can buy or sell your autojumble and interact with like-minded enthusiasts. \nA well-established\, busy indoor and outdoor Land Rover\, 4×4 and Vintage Autojumble\, this event is an ideal opportunity to buy new\, used\, old and obsolete parts and accessories from all eras! Finds will also include tools\, farm memorabilia\, agri-jumble\, ex-army surplus and equipment\, yard and shed clear-outs\, tractor and machinery parts\, stationary engines\, camping gear and even vehicle sales. \nPlus\, there will be a range of vehicle displays and club stands for visitors to browse. \nBook early to save on tickets: \n\nPre-book visitor tickets: £9.50 plus booking fee\nPre-book trade from: £40 plus booking fee\nChildren (16 and under): free (dogs are welcome too)\n\nVisit the Land Rover Monthly website for more information and to book your tickets.
URL:https://www.visitthemalverns.org/event/land-rover-4x4-and-vintage-autojumble/
LOCATION:Three Counties Showground\, WR13 6NW
CATEGORIES:Automotive,Dog Friendly,Malvern,Shopping,Showground
ATTACH;FMTTYPE=image/jpeg:https://www.visitthemalverns.org/wp-content/uploads/2025/12/Malvern-Autojumble-25-October-2026.jpg
GEO:52.0828475;-2.3146342
X-APPLE-STRUCTURED-LOCATION;VALUE=URI;X-ADDRESS=Three Counties Showground WR13 6NW;X-APPLE-RADIUS=500;X-TITLE=WR13 6NW:geo:-2.3146342,52.0828475
END:VEVENT
BEGIN:VEVENT
DTSTART;TZID=Europe/London:20261101T083000
DTEND;TZID=Europe/London:20261101T150000
DTSTAMP:20260419T190704
CREATED:20240223T144835Z
LAST-MODIFIED:20260211T153952Z
UID:10021816-1793521800-1793545200@www.visitthemalverns.org
SUMMARY:Malvern Antiques and Collectors Fair
DESCRIPTION:This fair is an industry stalwart and provides a great opportunity to discover high quality antique and collectable items. Featuring goods from up to 150 dealers all in a single hall\, the Malvern Antiques and Collectors Fair offers the chance to browse an excellent selection of books\, glass\, art\, ceramics\, Art Deco pieces\, decorative items\, jewellery and more. \nSunday early entry: 8.30am – 10am at £10 per person\nGeneral entry: 10am – 3pm at £5 per person\nAccompanied under 16s: Free \nParking at this event is free. \nRefreshments are available to purchase. \nDogs are allowed if kept on a short lead (but please avoid bringing them if you can). \n 
URL:https://www.visitthemalverns.org/event/malvern-antiques-and-collectors-fair-2/2026-11-01/
LOCATION:Three Counties Showground\, WR13 6NW
CATEGORIES:Dog Friendly,Fair,Shopping,Showground
ATTACH;FMTTYPE=image/jpeg:https://www.visitthemalverns.org/wp-content/uploads/2021/12/mats-hagwall-uzl47XdoLww-unsplash-2-e1737728501603.jpg
GEO:52.0828475;-2.3146342
X-APPLE-STRUCTURED-LOCATION;VALUE=URI;X-ADDRESS=Three Counties Showground WR13 6NW;X-APPLE-RADIUS=500;X-TITLE=WR13 6NW:geo:-2.3146342,52.0828475
END:VEVENT
BEGIN:VEVENT
DTSTART;TZID=Europe/London:20261115T083000
DTEND;TZID=Europe/London:20261115T143000
DTSTAMP:20260419T190704
CREATED:20250124T161136Z
LAST-MODIFIED:20260109T175557Z
UID:10022109-1794731400-1794753000@www.visitthemalverns.org
SUMMARY:Toy & Train Collectors Fair
DESCRIPTION:Popular event hosted by Bulldog Fairs\, with a wide range of stalls offering many toys and models for sale in the Severn Hall. \nBrowse over up to 250 stalls selling the best in toy and model collecting. \nFree parking is available and the café will be serving light refreshments all day. \nDates in 2026\nSunday 25 January 2026\nSunday 29 March 2026\nSunday 6 September 2026\nSunday 15 November 2026 \nOpen 10.30am – 2.30pm for standard entry price of £4 in cash (under 16s free with a paying adult) but early-bird entry (from 8.30am) is available for £10 in cash. \nEntry through Yellow Gate. \nPlease visit the Bulldog Fairs website to check final details before travelling.
URL:https://www.visitthemalverns.org/event/toy-collectors-fair/2026-11-15/
LOCATION:Three Counties Showground\, WR13 6NW
CATEGORIES:Fair,Shopping,Showground
ATTACH;FMTTYPE=image/jpeg:https://www.visitthemalverns.org/wp-content/uploads/2025/01/Model-cars-by-Liao-Je-Wei-on-Unsplash.jpg
GEO:52.0828475;-2.3146342
X-APPLE-STRUCTURED-LOCATION;VALUE=URI;X-ADDRESS=Three Counties Showground WR13 6NW;X-APPLE-RADIUS=500;X-TITLE=WR13 6NW:geo:-2.3146342,52.0828475
END:VEVENT
END:VCALENDAR