BEGIN:VCALENDAR
VERSION:2.0
PRODID:-//Visit The Malverns - ECPv6.15.20//NONSGML v1.0//EN
CALSCALE:GREGORIAN
METHOD:PUBLISH
X-WR-CALNAME:Visit The Malverns
X-ORIGINAL-URL:https://www.visitthemalverns.org
X-WR-CALDESC:Events for Visit The Malverns
REFRESH-INTERVAL;VALUE=DURATION:PT1H
X-Robots-Tag:noindex
X-PUBLISHED-TTL:PT1H
BEGIN:VTIMEZONE
TZID:Europe/London
BEGIN:DAYLIGHT
TZOFFSETFROM:+0000
TZOFFSETTO:+0100
TZNAME:BST
DTSTART:20220327T010000
END:DAYLIGHT
BEGIN:STANDARD
TZOFFSETFROM:+0100
TZOFFSETTO:+0000
TZNAME:GMT
DTSTART:20221030T010000
END:STANDARD
BEGIN:DAYLIGHT
TZOFFSETFROM:+0000
TZOFFSETTO:+0100
TZNAME:BST
DTSTART:20230326T010000
END:DAYLIGHT
BEGIN:STANDARD
TZOFFSETFROM:+0100
TZOFFSETTO:+0000
TZNAME:GMT
DTSTART:20231029T010000
END:STANDARD
BEGIN:DAYLIGHT
TZOFFSETFROM:+0000
TZOFFSETTO:+0100
TZNAME:BST
DTSTART:20240331T010000
END:DAYLIGHT
BEGIN:STANDARD
TZOFFSETFROM:+0100
TZOFFSETTO:+0000
TZNAME:GMT
DTSTART:20241027T010000
END:STANDARD
BEGIN:DAYLIGHT
TZOFFSETFROM:+0000
TZOFFSETTO:+0100
TZNAME:BST
DTSTART:20250330T010000
END:DAYLIGHT
BEGIN:STANDARD
TZOFFSETFROM:+0100
TZOFFSETTO:+0000
TZNAME:GMT
DTSTART:20251026T010000
END:STANDARD
END:VTIMEZONE
BEGIN:VEVENT
DTSTART;TZID=Europe/London:20240308T200000
DTEND;TZID=Europe/London:20240308T210000
DTSTAMP:20260424T095140
CREATED:20231208T122902Z
LAST-MODIFIED:20240223T102523Z
UID:10010192-1709928000-1709931600@www.visitthemalverns.org
SUMMARY:Charity Quiz Night
DESCRIPTION:Friday Night Quiz at West Malvern Social Club with quizmaster Nick Brown. \nAll ages welcome \nRaffle and Great Prizes \nEntrance fee £2.50 per person \nStarts at 8pm \nThis is always a busy night so arrive early to avoid disappointment.
URL:https://www.visitthemalverns.org/event/charity-quiz-night-2/
LOCATION:West Malvern Social Club\, West Malvern Road\, WR14 4AY
CATEGORIES:Charity,Quiz
ATTACH;FMTTYPE=image/jpeg:https://www.visitthemalverns.org/wp-content/uploads/2022/05/Quiz-Resized-1.jpg
GEO:52.1171648;-2.346193
X-APPLE-STRUCTURED-LOCATION;VALUE=URI;X-ADDRESS=West Malvern Social Club West Malvern Road WR14 4AY;X-APPLE-RADIUS=500;X-TITLE=West Malvern Road\, WR14 4AY:geo:-2.346193,52.1171648
END:VEVENT
BEGIN:VEVENT
DTSTART;TZID=Europe/London:20240301T193000
DTEND;TZID=Europe/London:20240301T213000
DTSTAMP:20260424T095140
CREATED:20231107T164607Z
LAST-MODIFIED:20240223T102030Z
UID:10004306-1709321400-1709328600@www.visitthemalverns.org
SUMMARY:Jazz Jam
DESCRIPTION:Play. Sing. Listen. \nLaid back\, relaxed and chilled evening of music. \nBossa\, Funk\, Blues\, Shuffle\, Bebop\, Samba\, Jazz Waltz\, Swing and more \nOpen from 7:30pm \nEmail for more details: wjazzjam@gmail.com \n£4 on the door \nFirst Friday of each month
URL:https://www.visitthemalverns.org/event/jazz-jam-2-2/2024-03-01/
LOCATION:West Malvern Social Club\, West Malvern Road\, WR14 4AY
CATEGORIES:Malvern,Music
ATTACH;FMTTYPE=image/jpeg:https://www.visitthemalverns.org/wp-content/uploads/2021/12/Jazz-jens-thekkeveettil-unsplash-compressed-e1665157890531.jpg
GEO:52.1171648;-2.346193
X-APPLE-STRUCTURED-LOCATION;VALUE=URI;X-ADDRESS=West Malvern Social Club West Malvern Road WR14 4AY;X-APPLE-RADIUS=500;X-TITLE=West Malvern Road\, WR14 4AY:geo:-2.346193,52.1171648
END:VEVENT
BEGIN:VEVENT
DTSTART;TZID=Europe/London:20240223T193000
DTEND;TZID=Europe/London:20240223T203000
DTSTAMP:20260424T095140
CREATED:20240214T143741Z
LAST-MODIFIED:20240223T101837Z
UID:10005079-1708716600-1708720200@www.visitthemalverns.org
SUMMARY:Friday Flicks
DESCRIPTION:West Malvern Social Club presents the latest film in its ‘Friday Flicks’ season: \nThe Menu \nA couple (Anya Taylor-Joy and Nicholas Hoult) travels to a coastal island to eat at an exclusive restaurant where the chef (Ralph Fiennes) has prepared a lavish menu\, with some shocking surprises. Cast: Anya Taylor-Joy\, Nicholas Hoult\, Ralph Fiennes\, John Leguizamo\, Judith Light\, Hong Chau \nPopcorn\, bar and refreshments available \nDoors open at 7:30pm\nFilm starts at 8pm \n  \n 
URL:https://www.visitthemalverns.org/event/friday-flicks/
LOCATION:West Malvern Social Club\, West Malvern Road\, WR14 4AY
CATEGORIES:Cinema,Community,Film,Malvern
ATTACH;FMTTYPE=image/jpeg:https://www.visitthemalverns.org/wp-content/uploads/2021/07/iStock-1191001701-cinema-resized-1.jpg
GEO:52.1171648;-2.346193
X-APPLE-STRUCTURED-LOCATION;VALUE=URI;X-ADDRESS=West Malvern Social Club West Malvern Road WR14 4AY;X-APPLE-RADIUS=500;X-TITLE=West Malvern Road\, WR14 4AY:geo:-2.346193,52.1171648
END:VEVENT
BEGIN:VEVENT
DTSTART;TZID=Europe/London:20240203T200000
DTEND;TZID=Europe/London:20240203T223000
DTSTAMP:20260424T095140
CREATED:20240106T165417Z
LAST-MODIFIED:20240106T165417Z
UID:10011456-1706990400-1706999400@www.visitthemalverns.org
SUMMARY:Flatworld
DESCRIPTION:With rich compelling melodies and tight driving rhythm\, Flatworld play an eclectic mix of music from Eastern Europe and beyond. \nThe band takes tunes and songs from Eastern European folk traditions (and elsewhere) and present them in a lively and accessible form that often gets audiences dancing by the end of a show. \nWest Malvern Social Club is a friendly intimate venue\, with a small stage\, good sound and a well-stocked bar.
URL:https://www.visitthemalverns.org/event/flatworld-3/
LOCATION:West Malvern Social Club\, West Malvern Road\, WR14 4AY
CATEGORIES:Concert,Music
ATTACH;FMTTYPE=image/jpeg:https://www.visitthemalverns.org/wp-content/uploads/2021/08/iStock-688015678-music-Resized-1.jpg
GEO:52.1171648;-2.346193
X-APPLE-STRUCTURED-LOCATION;VALUE=URI;X-ADDRESS=West Malvern Social Club West Malvern Road WR14 4AY;X-APPLE-RADIUS=500;X-TITLE=West Malvern Road\, WR14 4AY:geo:-2.346193,52.1171648
END:VEVENT
BEGIN:VEVENT
DTSTART;TZID=Europe/London:20240202T193000
DTEND;TZID=Europe/London:20240202T213000
DTSTAMP:20260424T095140
CREATED:20231107T164607Z
LAST-MODIFIED:20240223T102030Z
UID:10004305-1706902200-1706909400@www.visitthemalverns.org
SUMMARY:Jazz Jam
DESCRIPTION:Play. Sing. Listen. \nLaid back\, relaxed and chilled evening of music. \nBossa\, Funk\, Blues\, Shuffle\, Bebop\, Samba\, Jazz Waltz\, Swing and more \nOpen from 7:30pm \nEmail for more details: wjazzjam@gmail.com \n£4 on the door \nFirst Friday of each month
URL:https://www.visitthemalverns.org/event/jazz-jam-2-2/2024-02-02/
LOCATION:West Malvern Social Club\, West Malvern Road\, WR14 4AY
CATEGORIES:Malvern,Music
ATTACH;FMTTYPE=image/jpeg:https://www.visitthemalverns.org/wp-content/uploads/2021/12/Jazz-jens-thekkeveettil-unsplash-compressed-e1665157890531.jpg
GEO:52.1171648;-2.346193
X-APPLE-STRUCTURED-LOCATION;VALUE=URI;X-ADDRESS=West Malvern Social Club West Malvern Road WR14 4AY;X-APPLE-RADIUS=500;X-TITLE=West Malvern Road\, WR14 4AY:geo:-2.346193,52.1171648
END:VEVENT
BEGIN:VEVENT
DTSTART;TZID=Europe/London:20240105T193000
DTEND;TZID=Europe/London:20240105T213000
DTSTAMP:20260424T095140
CREATED:20231107T164607Z
LAST-MODIFIED:20240223T102030Z
UID:10004304-1704483000-1704490200@www.visitthemalverns.org
SUMMARY:Jazz Jam
DESCRIPTION:Play. Sing. Listen. \nLaid back\, relaxed and chilled evening of music. \nBossa\, Funk\, Blues\, Shuffle\, Bebop\, Samba\, Jazz Waltz\, Swing and more \nOpen from 7:30pm \nEmail for more details: wjazzjam@gmail.com \n£4 on the door \nFirst Friday of each month
URL:https://www.visitthemalverns.org/event/jazz-jam-2-2/2024-01-05/
LOCATION:West Malvern Social Club\, West Malvern Road\, WR14 4AY
CATEGORIES:Malvern,Music
ATTACH;FMTTYPE=image/jpeg:https://www.visitthemalverns.org/wp-content/uploads/2021/12/Jazz-jens-thekkeveettil-unsplash-compressed-e1665157890531.jpg
GEO:52.1171648;-2.346193
X-APPLE-STRUCTURED-LOCATION;VALUE=URI;X-ADDRESS=West Malvern Social Club West Malvern Road WR14 4AY;X-APPLE-RADIUS=500;X-TITLE=West Malvern Road\, WR14 4AY:geo:-2.346193,52.1171648
END:VEVENT
BEGIN:VEVENT
DTSTART;TZID=Europe/London:20231216T190000
DTEND;TZID=Europe/London:20231216T200000
DTSTAMP:20260424T095140
CREATED:20230406T145958Z
LAST-MODIFIED:20230406T145958Z
UID:10005965-1702753200-1702756800@www.visitthemalverns.org
SUMMARY:Roving Crows
DESCRIPTION:Live Music at West Malvern Social Club \nMore details soon
URL:https://www.visitthemalverns.org/event/roving-crows-2/
LOCATION:West Malvern Social Club\, West Malvern Road\, WR14 4AY
CATEGORIES:Concert,Malvern,Music
ATTACH;FMTTYPE=image/jpeg:https://www.visitthemalverns.org/wp-content/uploads/2021/08/iStock-688015678-music-Resized-1.jpg
GEO:52.1171648;-2.346193
X-APPLE-STRUCTURED-LOCATION;VALUE=URI;X-ADDRESS=West Malvern Social Club West Malvern Road WR14 4AY;X-APPLE-RADIUS=500;X-TITLE=West Malvern Road\, WR14 4AY:geo:-2.346193,52.1171648
END:VEVENT
BEGIN:VEVENT
DTSTART;TZID=Europe/London:20231209T203000
DTEND;TZID=Europe/London:20231209T223000
DTSTAMP:20260424T095140
CREATED:20231125T172255Z
LAST-MODIFIED:20231125T172255Z
UID:10011171-1702153800-1702161000@www.visitthemalverns.org
SUMMARY:The Fezz
DESCRIPTION:The Fezz will be at West Malvern Social Club on Saturday 9 December 2023 to play a range of Steely Dan tunes including Kid Charlemagne\, Do It Again\, My Old School\, Black Friday\, Don’t Take Me Alive\, Babylon Sisters\, Boddhisatva and more\, plus a selection from the legendary Aja album including Peg\, Josie\, Home At Last\, Black Cow – and\, maybe\, Aja itself! The band will also play some of their favourite non-Steely tunes including Money’s Too Tight To Mention\, How Long?\, Boys Of Summer\, Who’s That Lady? Probably not All Around My Hat – but\, then again… \nTickets cost £11 and are available to buy online. \nDoors open at 7pm and music starts at 8.30pm.
URL:https://www.visitthemalverns.org/event/the-fezz/
LOCATION:West Malvern Social Club\, West Malvern Road\, WR14 4AY
CATEGORIES:Concert,Music
ATTACH;FMTTYPE=image/jpeg:https://www.visitthemalverns.org/wp-content/uploads/2021/08/iStock-688015678-music-Resized-1.jpg
GEO:52.1171648;-2.346193
X-APPLE-STRUCTURED-LOCATION;VALUE=URI;X-ADDRESS=West Malvern Social Club West Malvern Road WR14 4AY;X-APPLE-RADIUS=500;X-TITLE=West Malvern Road\, WR14 4AY:geo:-2.346193,52.1171648
END:VEVENT
BEGIN:VEVENT
DTSTART;TZID=Europe/London:20231202T200000
DTEND;TZID=Europe/London:20231202T220000
DTSTAMP:20260424T095140
CREATED:20231107T165716Z
LAST-MODIFIED:20231107T165828Z
UID:10010193-1701547200-1701554400@www.visitthemalverns.org
SUMMARY:Phil Bates (ELO PT2)
DESCRIPTION:Phil Bates – Up Close and Personal\nEx-frontman of ELO PT2\, Trickster and Atlantic \nPhil Bates has a connection with ELO that goes back to the 1970s as his band Trickster supported ELO on their 1978 Spaceship Tour. Phil then became a member of ELO Part 2 and toured the world. \n‘Up Close and Personal’ sees Phil solo\, playing reimaginings of ELO\, Beatles\, Trickster\, Atlantic\, classic songs from the extensive pop/rock/blues songbook\, and songs from some of Phil’s favourite songwriters – Stevie Wonder\, Tom Waits\, Steve Earle\, Bruce Springsteen\, Gerry Rafferty\, Keb Mo\, Ry Cooder …… plus a smattering of blues\, and a soupćon of Celtic.\nPlus\, some talking about 56 years of Phil Bates musical history ….. if anyone wants to hear an old fart talking about ‘the good old days’ \nDoors open at 7pm\nMusic from 8-11:30pm \nTickets: £10 + booking fee
URL:https://www.visitthemalverns.org/event/phil-bates-elo-pt2/
LOCATION:West Malvern Social Club\, West Malvern Road\, WR14 4AY
CATEGORIES:Concert,Malvern,Music
ATTACH;FMTTYPE=image/jpeg:https://www.visitthemalverns.org/wp-content/uploads/2021/08/iStock-688015678-music-Resized-1.jpg
GEO:52.1171648;-2.346193
X-APPLE-STRUCTURED-LOCATION;VALUE=URI;X-ADDRESS=West Malvern Social Club West Malvern Road WR14 4AY;X-APPLE-RADIUS=500;X-TITLE=West Malvern Road\, WR14 4AY:geo:-2.346193,52.1171648
END:VEVENT
BEGIN:VEVENT
DTSTART;TZID=Europe/London:20231201T193000
DTEND;TZID=Europe/London:20231201T213000
DTSTAMP:20260424T095140
CREATED:20231107T164607Z
LAST-MODIFIED:20240223T102030Z
UID:10004303-1701459000-1701466200@www.visitthemalverns.org
SUMMARY:Jazz Jam
DESCRIPTION:Play. Sing. Listen. \nLaid back\, relaxed and chilled evening of music. \nBossa\, Funk\, Blues\, Shuffle\, Bebop\, Samba\, Jazz Waltz\, Swing and more \nOpen from 7:30pm \nEmail for more details: wjazzjam@gmail.com \n£4 on the door \nFirst Friday of each month
URL:https://www.visitthemalverns.org/event/jazz-jam-2-2/2023-12-01/
LOCATION:West Malvern Social Club\, West Malvern Road\, WR14 4AY
CATEGORIES:Malvern,Music
ATTACH;FMTTYPE=image/jpeg:https://www.visitthemalverns.org/wp-content/uploads/2021/12/Jazz-jens-thekkeveettil-unsplash-compressed-e1665157890531.jpg
GEO:52.1171648;-2.346193
X-APPLE-STRUCTURED-LOCATION;VALUE=URI;X-ADDRESS=West Malvern Social Club West Malvern Road WR14 4AY;X-APPLE-RADIUS=500;X-TITLE=West Malvern Road\, WR14 4AY:geo:-2.346193,52.1171648
END:VEVENT
BEGIN:VEVENT
DTSTART;TZID=Europe/London:20231125T200000
DTEND;TZID=Europe/London:20231125T223000
DTSTAMP:20260424T095140
CREATED:20230207T160112Z
LAST-MODIFIED:20230207T160112Z
UID:10005689-1700942400-1700951400@www.visitthemalverns.org
SUMMARY:The Songs of Leonard Cohen with Keith James
DESCRIPTION:Enigmatic\, mysterious and sub-textural\, Canadian singer-songwriter Leonard Cohen was an unflinching character\, with an exact sense of prose\, wry humour and the courage to wrestle with the unspoken\, forgiving human frailty with the stroke of each line. \nHis music befriended an entire generation\, challenging us to listen more carefully\, think more deeply and recognize our own fragility. He has bequeathed the richest legacy of any songwriter. \nWith a lifetime reputation of performing in this exact way and an undying love of the ‘pure song’\, Keith James offers a concert of Cohen’s amazing material in the most intimate and sensitive way imaginable\, exposing the solitary inner strength of his most beloved songs: Famous Blue Raincoat\, Sisters of Mercy\, Suzanne and Hallelujah. \nDoors open at 7pm with music starting at 8pm.
URL:https://www.visitthemalverns.org/event/the-songs-of-leonard-cohen-with-keith-james/
LOCATION:West Malvern Social Club\, West Malvern Road\, WR14 4AY
CATEGORIES:Concert,Malvern,Music
ATTACH;FMTTYPE=image/jpeg:https://www.visitthemalverns.org/wp-content/uploads/2021/08/iStock-688015678-music-Resized-1.jpg
GEO:52.1171648;-2.346193
X-APPLE-STRUCTURED-LOCATION;VALUE=URI;X-ADDRESS=West Malvern Social Club West Malvern Road WR14 4AY;X-APPLE-RADIUS=500;X-TITLE=West Malvern Road\, WR14 4AY:geo:-2.346193,52.1171648
END:VEVENT
BEGIN:VEVENT
DTSTART;TZID=Europe/London:20231117T193000
DTEND;TZID=Europe/London:20231117T203000
DTSTAMP:20260424T095140
CREATED:20230609T184612Z
LAST-MODIFIED:20230609T184612Z
UID:10006294-1700249400-1700253000@www.visitthemalverns.org
SUMMARY:Charles Watson
DESCRIPTION:Live Music at West Malvern Social Club \nMoe details to follow
URL:https://www.visitthemalverns.org/event/charles-watson/
LOCATION:West Malvern Social Club\, West Malvern Road\, WR14 4AY
CATEGORIES:Concert,Malvern,Music
ATTACH;FMTTYPE=image/jpeg:https://www.visitthemalverns.org/wp-content/uploads/2021/08/iStock-688015678-music-Resized-1.jpg
GEO:52.1171648;-2.346193
X-APPLE-STRUCTURED-LOCATION;VALUE=URI;X-ADDRESS=West Malvern Social Club West Malvern Road WR14 4AY;X-APPLE-RADIUS=500;X-TITLE=West Malvern Road\, WR14 4AY:geo:-2.346193,52.1171648
END:VEVENT
BEGIN:VEVENT
DTSTART;TZID=Europe/London:20231104T200000
DTEND;TZID=Europe/London:20231104T230000
DTSTAMP:20260424T095140
CREATED:20231028T150804Z
LAST-MODIFIED:20231101T170120Z
UID:10009832-1699128000-1699138800@www.visitthemalverns.org
SUMMARY:Halloween Party at West Malvern Social Club (cancelled)
DESCRIPTION:This event has been cancelled \nThe committee of West Malvern Social Club has decided for the first time this year to put on a fundraiser and cordially invite you to join them for an evening of Halloween fun. Fancy dress is optional\, with a prize for the best dressed\, and there will also be a raffle. Music will be a playlist of suitable spooky dance tunes.
URL:https://www.visitthemalverns.org/event/halloween-party-at-west-malvern-social-club/
LOCATION:West Malvern Social Club\, West Malvern Road\, WR14 4AY
CATEGORIES:Community,Dance,Music
ATTACH;FMTTYPE=image/jpeg:https://www.visitthemalverns.org/wp-content/uploads/2021/10/Halloween-scaled-e1729609866461.jpg
GEO:52.1171648;-2.346193
X-APPLE-STRUCTURED-LOCATION;VALUE=URI;X-ADDRESS=West Malvern Social Club West Malvern Road WR14 4AY;X-APPLE-RADIUS=500;X-TITLE=West Malvern Road\, WR14 4AY:geo:-2.346193,52.1171648
END:VEVENT
BEGIN:VEVENT
DTSTART;TZID=Europe/London:20231103T193000
DTEND;TZID=Europe/London:20231103T213000
DTSTAMP:20260424T095140
CREATED:20220413T103835Z
LAST-MODIFIED:20230704T095017Z
UID:10004302-1699039800-1699047000@www.visitthemalverns.org
SUMMARY:Jazz Jam
DESCRIPTION:Play. Sing. Listen. \nLaid back\, relaxed and chilled evening of music. \nBossa\, Funk\, Blues\, Shuffle\, Bebop\, Samba\, Jazz Waltz\, Swing and more \nOpen from 7:30pm \nEmail for more details: wjazzjam@gmail.com \n£2.50 on the door \nFirst Friday of each month
URL:https://www.visitthemalverns.org/event/jazz-jam-2/2023-11-03/
LOCATION:West Malvern Social Club\, West Malvern Road\, WR14 4AY
CATEGORIES:Malvern,Music
ATTACH;FMTTYPE=image/jpeg:https://www.visitthemalverns.org/wp-content/uploads/2021/12/Jazz-jens-thekkeveettil-unsplash-compressed-e1665157890531.jpg
GEO:52.1171648;-2.346193
X-APPLE-STRUCTURED-LOCATION;VALUE=URI;X-ADDRESS=West Malvern Social Club West Malvern Road WR14 4AY;X-APPLE-RADIUS=500;X-TITLE=West Malvern Road\, WR14 4AY:geo:-2.346193,52.1171648
END:VEVENT
BEGIN:VEVENT
DTSTART;TZID=Europe/London:20231020T193000
DTEND;TZID=Europe/London:20231020T203000
DTSTAMP:20260424T095140
CREATED:20230225T150511Z
LAST-MODIFIED:20230609T183315Z
UID:10005812-1697830200-1697833800@www.visitthemalverns.org
SUMMARY:Scott Matthews
DESCRIPTION:Live Music at West Malvern Social Club \nSinger-songwriter Scott Matthews tours his critically acclaimed album ‘ Restless Lullabies’ \nScott Matthews has performed on a number of international sell-out tours with respected artists such as Rufus Wainwright\, Bert Jansch\, Robert Plant and Alison Krauss\, Foo Fighters\, Snow Patrol and Tori Amos. \nSee website for more details and how to purchase tickets.
URL:https://www.visitthemalverns.org/event/scott-matthews/
LOCATION:West Malvern Social Club\, West Malvern Road\, WR14 4AY
CATEGORIES:Concert,Malvern,Music
ATTACH;FMTTYPE=image/jpeg:https://www.visitthemalverns.org/wp-content/uploads/2021/08/iStock-688015678-music-Resized-1.jpg
GEO:52.1171648;-2.346193
X-APPLE-STRUCTURED-LOCATION;VALUE=URI;X-ADDRESS=West Malvern Social Club West Malvern Road WR14 4AY;X-APPLE-RADIUS=500;X-TITLE=West Malvern Road\, WR14 4AY:geo:-2.346193,52.1171648
END:VEVENT
BEGIN:VEVENT
DTSTART;TZID=Europe/London:20231006T193000
DTEND;TZID=Europe/London:20231006T213000
DTSTAMP:20260424T095140
CREATED:20220413T103835Z
LAST-MODIFIED:20230704T095017Z
UID:10004301-1696620600-1696627800@www.visitthemalverns.org
SUMMARY:Jazz Jam
DESCRIPTION:Play. Sing. Listen. \nLaid back\, relaxed and chilled evening of music. \nBossa\, Funk\, Blues\, Shuffle\, Bebop\, Samba\, Jazz Waltz\, Swing and more \nOpen from 7:30pm \nEmail for more details: wjazzjam@gmail.com \n£2.50 on the door \nFirst Friday of each month
URL:https://www.visitthemalverns.org/event/jazz-jam-2/2023-10-06/
LOCATION:West Malvern Social Club\, West Malvern Road\, WR14 4AY
CATEGORIES:Malvern,Music
ATTACH;FMTTYPE=image/jpeg:https://www.visitthemalverns.org/wp-content/uploads/2021/12/Jazz-jens-thekkeveettil-unsplash-compressed-e1665157890531.jpg
GEO:52.1171648;-2.346193
X-APPLE-STRUCTURED-LOCATION;VALUE=URI;X-ADDRESS=West Malvern Social Club West Malvern Road WR14 4AY;X-APPLE-RADIUS=500;X-TITLE=West Malvern Road\, WR14 4AY:geo:-2.346193,52.1171648
END:VEVENT
END:VCALENDAR